BEGIN:VCALENDAR
PRODID:NingEventWidget-v1
VERSION:2.0
METHOD:PUBLISH
BEGIN:VTIMEZONE
TZID:Asia/Bangkok
X-LIC-LOCATION:Asia/Bangkok
BEGIN:STANDARD
TZOFFSETFROM:+0700
TZOFFSETTO:+0700
TZNAME:ICT
DTSTART:19700101T000000
END:STANDARD
END:VTIMEZONE
BEGIN:VEVENT
UID:2988839:Event:3523984
DTSTAMP:20260422T150002Z
SUMMARY:นิทรรศการ \"WITCH LOVE\"
DESCRIPTION: If you had magic for one day, what would you do?  \r\n.
 \r\nถ้าคุณมีเวทมนตร์ 1 วัน ค
 ณจะทำอะไร ?\r\n.\r\n\" WITCH LOVE \" ไม่ใ
 ่นิทรรศการที่บอกเล่าเรื
 ่องราวความรักของแม่มด แต
 ่เป็นการบอกเล่าเรื่องรา
 ของสาวน้อยคนนึงที่มีเว
 มนตร์เพียง 1 วัน เธอจะทำอ
 ไร ทำให้สมหวังในสิ่งที่
 ักและปรารถนา ทำเพื่อคนอ
 ่น หรือเพื่อตัวเธอเอง ? \r\n
 .\r\n แล้วถ้าเป็นคุณล่ะ คุณ
 ะทำอะไร?\r\n.\r\nWITCH LOVE: EXHIBITION BY Fahfahs\r\nE
 xhibition : 11-29 MAY 2019\r\nLocation : 10ml. Cafe Gallery\r\n.\r\n
 ิดตามผลงานของฟ้าฟ้าเพิ่
 มเติมได้ที่ : \r\n FB Page - https://www.faceb
 ook.com/fahfahsnpth/\r\nIG - fahfahfahs\n\nFor more information visit 
 http://www.portfolios.net/events/witch-love
DTSTART;TZID=Asia/Bangkok:20190511T000000
DTEND;TZID=Asia/Bangkok:20190529T235900
CATEGORIES:art, exhibition, painting
LOCATION:10mlcafegallery
WEBSITE:http://www.facebook.com/10mlcafegallery
URL:http://www.facebook.com/10mlcafegallery
CONTACT:089 465 6915
ORGANIZER;CN="NEWS PORTFOLIOS*NET":http://www.portfolios.net/profile/A
 dminNews
ATTACH;FMTTYPE="image/jpeg":https://storage.ning.com/topology/rest/1.0
 /file/get/2114718945?profile=original
ATTENDEE;ROLE=REQ-PARTICIPANT;PARTSTAT=ACCEPTED;RSVP=TRUE;CN="NEWS POR
 TFOLIOS*NET":http://www.portfolios.net/profile/AdminNews
END:VEVENT
END:VCALENDAR
