BEGIN:VCALENDAR
PRODID:NingEventWidget-v1
VERSION:2.0
METHOD:PUBLISH
BEGIN:VTIMEZONE
TZID:Asia/Bangkok
X-LIC-LOCATION:Asia/Bangkok
BEGIN:STANDARD
TZOFFSETFROM:+0700
TZOFFSETTO:+0700
TZNAME:ICT
DTSTART:19700101T000000
END:STANDARD
END:VTIMEZONE
BEGIN:VEVENT
UID:2988839:Event:3175303
DTSTAMP:20260426T030250Z
SUMMARY:นิทรรศการการ์ตูน \"ขาว-
 ำ / 白 - 黒\" (White - Black)
DESCRIPTION:นิทรรศการการ์ตูนขาว-
 ดำ / 白 - 黒 / White - Blackโดยนักเขียนก
 าร์ตูนไทย เอกรัฐ มิลินทะ
 าส หรือนามปากกา \" FORMALIN \"การ
 สดงผลงานคอมมิกครั้งแรกท
 ี่นำเรื่องราวของการทำงา
  การสร้างแรงบันดาลใจจาก
 อมมิกของตะวันตกและมังง
 ตะวันออก สร้างเป็นเรื่อ
 ราวผ่านตัวละครโดยเทคนิค
 สื่อผสมต่างๆ ซึ่งในงานนิ
 ทรรศการครั้งนี้จะมีการจ
 ดแสดง ภาพร่าง ภาพต้นฉบับ
  เทคนิคการพิมพ์ ของเล่น ส
 ่อผสม ฯลฯจัดแสดงที่ หอศิ
 ลป์ตาดูไทยยานยนตร์ บริเว
 ณชั้น 2 โชว์รูมรถมิตซูบิช
  ถนนสุขุมวิท 87 วัน: วันเสา
 ์ที่ 1 พฤศจิกายน 2557 ถึง 22 พฤ
 จิกายน 2557เวลา: 13:13 น. สถานีร
 ไฟฟ้า อ่อนนุชโทร.087-675-6664(หอศ
 ิลป์ตาดู) หรือ 085-942-9064(ฟอร์มา
 ลีน)\n\nFor more information visit http://www.portfolios.net/eve
 nts/white-black
DTSTART;TZID=Asia/Bangkok:20141101T000000
DTEND;TZID=Asia/Bangkok:20141122T235900
CATEGORIES:art, exhibition, drawing, print
LOCATION:Tadu Thaiyarnyon Contemporary
WEBSITE:http://facebook.com/Tadu.Contemporary.Art
URL:http://facebook.com/Tadu.Contemporary.Art
CONTACT:087 675 6664, 085 942 9064
ORGANIZER:
ATTACH;FMTTYPE="image/jpeg":http://storage.ning.com/topology/rest/1.0/
 file/get/3023313646?profile=original
ATTENDEE;ROLE=REQ-PARTICIPANT;PARTSTAT=ACCEPTED;RSVP=TRUE;CN="NEWS POR
 TFOLIOS*NET":http://www.portfolios.net/profile/AdminNews
END:VEVENT
END:VCALENDAR
