BEGIN:VCALENDAR
PRODID:NingEventWidget-v1
VERSION:2.0
METHOD:PUBLISH
BEGIN:VTIMEZONE
TZID:Asia/Bangkok
X-LIC-LOCATION:Asia/Bangkok
BEGIN:STANDARD
TZOFFSETFROM:+0700
TZOFFSETTO:+0700
TZNAME:ICT
DTSTART:19700101T000000
END:STANDARD
END:VTIMEZONE
BEGIN:VEVENT
UID:2988839:Event:3163355
DTSTAMP:20260426T030251Z
SUMMARY:นิทรรศการ “What's Cooking”
DESCRIPTION:(*) For English please scroll down\n“What's Cooking”  
 โดย ไทวิจิต พึ่งเกษมสมบู
 ณ์ พิธีเปิด : วันพุธที่ 5 พ
 ศจิกายน 2557 เวลา 18.00 น.ณ ขัวศิ
 ลปะ เชียงราย นิทรรศการจั
 แสดง วันที่ 5 พฤศจิกายน – 7 
 ันวาคม 2557 เปิดให้เข้าชมท
 กวัน เวลา 10.00- 19.00 น. (ไม่มีค่า
 เข้าชม)  ArtBridge ChiangRai invites you to the opening an
  art exhibition by Thaiwijit Puengkasemsomboon : What's Cooking  On We
 dnesday 5 November 2014 At 06.00 pm., Artbridge Chiangrai Exhibition :
  November 5 - December 7, 2014 Open daily: 10.00-19.00 hrs. (Admission
  Free)\n\nFor more information visit http://www.portfolios.net/events/
 what-s-cooking
DTSTART;TZID=Asia/Bangkok:20141105T000000
DTEND;TZID=Asia/Bangkok:20141207T235900
CATEGORIES:art, exhibition, painting
LOCATION:Artbridge Chiangrai
WEBSITE:http://www.artbridgechiangrai.org
URL:http://www.artbridgechiangrai.org
CONTACT:053 166 623
ORGANIZER:
ATTACH;FMTTYPE="image/jpeg":http://storage.ning.com/topology/rest/1.0/
 file/get/3023304951?profile=original
ATTENDEE;ROLE=REQ-PARTICIPANT;PARTSTAT=ACCEPTED;RSVP=TRUE;CN="NEWS POR
 TFOLIOS*NET":http://www.portfolios.net/profile/AdminNews
END:VEVENT
END:VCALENDAR
