BEGIN:VCALENDAR
PRODID:NingEventWidget-v1
VERSION:2.0
METHOD:PUBLISH
BEGIN:VTIMEZONE
TZID:Asia/Bangkok
X-LIC-LOCATION:Asia/Bangkok
BEGIN:STANDARD
TZOFFSETFROM:+0700
TZOFFSETTO:+0700
TZNAME:ICT
DTSTART:19700101T000000
END:STANDARD
END:VTIMEZONE
BEGIN:VEVENT
UID:2988839:Event:3561660
DTSTAMP:20260425T182626Z
SUMMARY:นิทรรศการ \"The Sense\"
DESCRIPTION:\r\nนิทรรศการ The Sense by two Artist 2 
 ศิลปิน ที่รวมตัวกันเพื่อ
 นำเสนอความรู้สึก, ความเข
 าใจ, จิตใจ ที่ก่อเกิดในตั
 ว \"คน\" บนโลกนี้\r\n\r\n\r\n \r\n\r\n\r\n พ
 ิธีเปิดนิทรรศการวันพุธ ท
 ี่ 5 กุมภาพันธ์ 2563 \r\n\r\n\r\n เวลา
  18.00 ณ ศูนย์ศิลปะบ้านตึก เช
 ยงใหม่\r\n\r\n\r\n \r\n\r\n\r\nนิทรรศกา
 รจัดแสดงระหว่างวันที่ 5 - 28
  กุมภาพันธ์ \r\n\r\n\r\n 2563เวลา 10.00 - 
 18.00 น.\r\n\n\nFor more information visit http://www.portfolios.net
 /events/the-sense
DTSTART;TZID=Asia/Bangkok:20200205T000000
DTEND;TZID=Asia/Bangkok:20200228T235900
CATEGORIES:art, exhibition, painting
LOCATION:Baan Tuek Art Center
WEBSITE:
URL:
CONTACT:
ORGANIZER;CN="NEWS PORTFOLIOS*NET":http://www.portfolios.net/profile/A
 dminNews
ATTACH;FMTTYPE="image/jpeg":https://storage.ning.com/topology/rest/1.0
 /file/get/3855008267?profile=original
ATTENDEE;ROLE=REQ-PARTICIPANT;PARTSTAT=ACCEPTED;RSVP=TRUE;CN="NEWS POR
 TFOLIOS*NET":http://www.portfolios.net/profile/AdminNews
END:VEVENT
END:VCALENDAR
