BEGIN:VCALENDAR
PRODID:NingEventWidget-v1
VERSION:2.0
METHOD:PUBLISH
BEGIN:VTIMEZONE
TZID:Asia/Bangkok
X-LIC-LOCATION:Asia/Bangkok
BEGIN:STANDARD
TZOFFSETFROM:+0700
TZOFFSETTO:+0700
TZNAME:ICT
DTSTART:19700101T000000
END:STANDARD
END:VTIMEZONE
BEGIN:VEVENT
UID:2988839:Event:2981280
DTSTAMP:20260422T191519Z
SUMMARY:นิทรรศการ \"THE CHEMISTRY\"
DESCRIPTION:(*) For English please scroll down\nนิทรรศก
 รแสดงศิลปะของนิสิตชั้น
 ีที่ 1 ภาควิชาทัศนศิลป์ ค
 ะศิลปกรรมศาสตร์ จุฬาลงก
 ณ์มหาวิทยาลัย\nจัดแสดง วั
 นที่ 8-22 พฤศจิกายน 2556\nณ พิพิ
 ภัณฑ์จุฬาลงกรณ์มหาวิทยา
 ลัย\nTHE CHEMISTRY: Art Exhibition of First-year students\nfrom 
 Department of Visual Arts,\nFaculty of Fine and Applied Arts, Chulalon
 gkorn University\nDate: 8-22th November 2013\nOpening ceremony on 8th 
 November 2013 at 18:00 hrs.\nLocation: Chulalongkorn University Museum
  (1fl.)\n\nFor more information visit http://www.portfolios.net/events
 /the-chemistry
DTSTART;TZID=Asia/Bangkok:20131108T000000
DTEND;TZID=Asia/Bangkok:20131122T235900
CATEGORIES:art, exhibition
LOCATION:Chulalongkorn University Museum
WEBSITE:http://www.chula.ac.th
URL:http://www.chula.ac.th
CONTACT:02 218 3645, 02 218 3634
ORGANIZER:
ATTACH;FMTTYPE="image/jpeg":http://storage.ning.com/topology/rest/1.0/
 file/get/3023149890?profile=original
ATTENDEE;ROLE=REQ-PARTICIPANT;PARTSTAT=ACCEPTED;RSVP=TRUE;CN="NEWS POR
 TFOLIOS*NET":http://www.portfolios.net/profile/AdminNews
END:VEVENT
END:VCALENDAR
