BEGIN:VCALENDAR
PRODID:NingEventWidget-v1
VERSION:2.0
METHOD:PUBLISH
BEGIN:VTIMEZONE
TZID:Asia/Bangkok
X-LIC-LOCATION:Asia/Bangkok
BEGIN:STANDARD
TZOFFSETFROM:+0700
TZOFFSETTO:+0700
TZNAME:ICT
DTSTART:19700101T000000
END:STANDARD
END:VTIMEZONE
BEGIN:VEVENT
UID:2988839:Event:2889560
DTSTAMP:20260424T012332Z
SUMMARY:นิทรรศการภาพถ่าย \"ตาด
 ทมิฬนาฑู\" (TaduTamilNadu)
DESCRIPTION:นิทรรศการภาพถ่าย ตาด
 ูทมิฬนาฑู\nวันที่ : 23 กรกฎา
 ม - 02 สิงหาคม 2556\nสถานที่: ชั้
 น L\nโดย อ.ชัยวุฒิ พุฒทอง อ.พ
 ษ์ศักดิ์ ตั้งติวาจา อ.พิ
 ักษณ์ ทนันชัยบุตร ผศ.กิตต
 ิชัย เกษมศานติ์ และ อ.อุรช
 า จักรคชาพล\nพิธีเปิดในวั
 อังคารที่ 23 กรกฎาคม 2556 เวล
  18.30 น.\nโครงการแสดงผลงานภา
 ถ่าย ตาดู ทมิฬ นาฑู โดยคณ
 จารย์สาขาวิชาการถ่ายภา
 จำนวน 5 ท่าน ประกอบด้วย อ.ช
 ัยวุฒิ พุฒทอง อ.พงษ์ศักดิ
  ตั้งติวาจา อ.พิจักษณ์ ทน
 นชัยบุตร ผศ.กิตติชัย เกษ
 ศานติ์ และ อ.อุรชา จักรคช
 พล มีจุดประสงค์เพื่อ นำเ
 นอภาพถ่ายจากการเดินทาง
 ปยังตอนใต้ของอินเดียเพื
 ่อสะท้อนวัฒนธรรมที่ร่วม
 ันของภูมิภาคเอเชียผ่าน
 างภาพถ่าย สถานที่คือรัฐ
 มิฬนาฑู ซึ่งเป็นรัฐที่อ
 ู่ตอนใต้สุดของอินเดีย โ
 ยเลือกเมืองเจนไน และปอน
 ิเชอรี่ ในการถ่ายทอดเรื
 องราว\nเมื่อกล่าวถึงการเ
 ินทางไปยังอินเดีย นักท่
 งเที่ยวอาจจะคิดถึงสถาน
 ี่ที่มีชื่อเสียงอย่างทั
 ชมาฮาล หรือสังเวชนียสถาน
  น้อยคนนักจะคิดถึงอินเดี
 ยใต้ โดยเฉพาะรัฐทมิฬนาฑู
  ที่ใช้ภาษาทมิฬเป็นภาษาห
 ลัก และคำว่า \"ทมิฬ\" ในภาษา
 ไทยนั้นแปลว่า \"ดุร้าย ร้า
 ยกาจ ร้าย\" (พจนานุกรม ฉบับ
 าชบัณฑิตสถาน) ทั้งหมดนี้
 ยิ่งทำให้ภาพของรัฐทมิฬใ
 ความคิดดูน่ากลัว แต่สำห
 ับภาพความเป็นจริงที่คณ
 จารย์ทั้ง 5 ท่านได้เจอนั้
 น รัฐทมิฬนาฑูเต็มไปด้วยร
 อยยิ้มของผู้คนที่เป็นมิ
 ร คอยช่วยเหลือเกื้อกูลต
 อดเส้นทาง และยังแวดล้อม
 ปด้วยสีสันที่สดใสและคว
 มสวยงามของอาคารบ้านเรือ
 น สถาปัตยกรรม ที่ราวกับพ
 พิธภัณฑ์ที่มีชีวิต นอกจ
 กนี้ยังปรากฎเรื่องราวทา
 งวัฒนธรรมอยู่ตลอดเส้นทา
 ไม่ว่าจะเป็นวิหารขนาดใ
 ญ่ รายละเอียดของการแกะส
 ักหิน รวมถึงอาหารมังสวิ
 ัตที่หลากหลาย ซึ่งอาจกล
 าวได้ว่า ทมิฬ นาฑู คือเมื
 องที่ประกอบด้วยส่วนผสมอ
 นถักทออย่างลงตัวระหว่า
 ศิลปวัฒนธรรมและความทันส
 มัยที่ดึงดูดช่างภาพจากท
 ่วโลกให้ไปเยือนนั่นเอง\n
 \nFor more information visit http://www.portfolios.net/events/tadutami
 lnadu
DTSTART;TZID=Asia/Bangkok:20130723T000000
DTEND;TZID=Asia/Bangkok:20130802T235900
CATEGORIES:art, exhibition, photo, photography
LOCATION:Bangkok Art and Culture Centre
WEBSITE:http://www.bacc.or.th
URL:http://www.bacc.or.th
CONTACT:02 214 6630-8
ORGANIZER:
ATTACH;FMTTYPE="image/jpeg":http://storage.ning.com/topology/rest/1.0/
 file/get/3023110000?profile=original
ATTENDEE;ROLE=REQ-PARTICIPANT;PARTSTAT=ACCEPTED;RSVP=TRUE;CN="NEWS POR
 TFOLIOS*NET":http://www.portfolios.net/profile/AdminNews
END:VEVENT
END:VCALENDAR
