BEGIN:VCALENDAR
PRODID:NingEventWidget-v1
VERSION:2.0
METHOD:PUBLISH
BEGIN:VTIMEZONE
TZID:Asia/Bangkok
X-LIC-LOCATION:Asia/Bangkok
BEGIN:STANDARD
TZOFFSETFROM:+0700
TZOFFSETTO:+0700
TZNAME:ICT
DTSTART:19700101T000000
END:STANDARD
END:VTIMEZONE
BEGIN:VEVENT
UID:2988839:Event:3553404
DTSTAMP:20260423T131923Z
SUMMARY:นิทรรศาการ \"Spirit of Nature\"
DESCRIPTION:Spirit of Nature\r\nวันที่ : 29 ตุลา
 ม - 10 พฤศจิกายน 2562 สถานที่: โ
 งชั้น 1\r\nโดย Camera Eyes School\r\nพิธี
 ปิด 29 ตุลาคม พ.ศ.2562 เวลา 18.30 น.\
 r\n  \r\n\r\n\r\nงานนิทรรศการศิลปะ
 ภาพถ่ายขาวดำ \"Spirit of Nature 2019\"\r\nง
 านแสดงภาพถ่ายครั้งที่ 3 ข
 งครูและนักเรียนจาก Camera Eyes S
 chool ผลงานภาพถ่ายขาวดำแบบ Fin
 e Art จัดพิมพ์อย่างประณีตที
 สุดเท่าที่จะเป็นไปได้\r\n
 ป็นโปรเจ็คที่พวกเราทุก
 นตั้งใจกันทำอย่างที่สุด
  ใช้เวลาถ่ายทำกันนานกว่า
  2 ปี คัดจากภาพถ่ายกว่าหลา
 ยพันภาพ จนได้ภาพที่ดีที่
 สุดจำนวน 47 ภาพ\r\n\r\nพิธีเปิด
 ะมีวันที่ 29 ตุลาคม พ.ศ.2562 น
 ้ เวลา 18.30 น. โดยได้รับเกีย
 ติจาก ดร. อาชว์ เตาลานนท์ 
 องประธานอาวุโส เครือเจร
 ญโภคภัณฑ์ เป็นประธานในพ
 ธีเปิด\r\n\r\nสอบถามรายละเอี
 ยดเพิ่มเติมได้ที่ \r\nอ.สมช
 าย สุริยาสภาพร\r\nโทร 090 - 2010095\r\
 nFacebook: CameraEyes\n\nFor more information visit http://www.portfo
 lios.net/events/spirit-of-nature
DTSTART;TZID=Asia/Bangkok:20191029T000000
DTEND;TZID=Asia/Bangkok:20191110T235900
CATEGORIES:art, exhibition, photo, photography
LOCATION:Bangkok Art and Culture Centre
WEBSITE:http://www.bacc.or.th
URL:http://www.bacc.or.th
CONTACT:02 214 6630-8
ORGANIZER;CN="NEWS PORTFOLIOS*NET":http://www.portfolios.net/profile/A
 dminNews
ATTACH;FMTTYPE="image/jpeg":https://storage.ning.com/topology/rest/1.0
 /file/get/3683248575?profile=original
ATTENDEE;ROLE=REQ-PARTICIPANT;PARTSTAT=ACCEPTED;RSVP=TRUE;CN="NEWS POR
 TFOLIOS*NET":http://www.portfolios.net/profile/AdminNews
END:VEVENT
END:VCALENDAR
