BEGIN:VCALENDAR
PRODID:NingEventWidget-v1
VERSION:2.0
METHOD:PUBLISH
BEGIN:VTIMEZONE
TZID:Asia/Bangkok
X-LIC-LOCATION:Asia/Bangkok
BEGIN:STANDARD
TZOFFSETFROM:+0700
TZOFFSETTO:+0700
TZNAME:ICT
DTSTART:19700101T000000
END:STANDARD
END:VTIMEZONE
BEGIN:VEVENT
UID:2988839:Event:3155441
DTSTAMP:20260420T070432Z
SUMMARY:นิทรรศการ \"SLOGO 7%\"
DESCRIPTION:นิทรรศการ การประกวดโ
 ลโก้และสโลแกน รณรงค์สวมห
 มวกก่อนซ้อน The 7% Project\nชมผลงา
 ที่ผ่านเข้ารอบสุดท้าย “SL
 OGO Contest ค้นหาโลโก้สุดเจ๋งเพ
 ่อรณรงค์ให้เด็กๆสวมหมว
 ก่อนซ้อนมอเตอร์ไซค์” ที
 ชั้น 1 Creative Society\nหอศิลปวัฒนธร
 รมแห่งกรุงเทพมหานคร (BACC) ต
 ้งแต่วันที่ 2 - 11 กันยายน\nSampl
 e Facebook Posts\nมาสนับสนุนนักออกแ
 บรุ่นใหม่ และช่วยเราเลื
 กผลงานที่จะกลายเป็นโลโ
 ้สําหรับโครงการ 7 percent\nชวนน
 ้องสวมหมวกก่อนซ้อน ที่ชั
 ้น 1 หอศิลป์ กรุงเทพฯ 2 - 11 ก.ย
 . นี้ www.7-percent.org #7%slogo\nโค้งสุดท้า
 ย การประกวดโลโก้ชวนน้องๆ
  สวมหมวกกันน็อค ขอเชิญชม
 ลงานที่โดนใจกรรมการที่ส
 ุด 7 ชิ้น\nและโหวตโลโก้ที่
 ูกใจคุณ ตั้งแต่ 2 - 11 ก.ย. ที่
 ห้องนิทรรศการชั้น 1 (ติดกั
 บร้าน Coffee Drip) หอศิลป์\nกรุงเท
 พฯ www.7-percent.org #7%slogo\nถ้าวันที่ 2 - 11 
 ก.ย. ใครแวะไปที่หอศิลป์ กร
 ุงเทพฯ อย่าลืมมาชมงานแนว
 คิดเก๋ 7\nชิ้นที่เข้ารอบสุ
 ดท้ายของเวทีประกวดโลโก้ 
 สําหรับโครงการ 7 percent ชวนน้
 งสวมหมวกก่อนซ้อน ที่ชั้
  1\nหอศิลป์ กันนะคะ www.7-percent.org #7%
 slogo\nจากผลงานกว่าร้อย สู่ 7 
 ลโก้สุดท้าย\nแต่จะมีเพีย
 หนึ่งเดียวเท่านั้นที่จ
 กลายเป็นโลโก้ของโครงการ
 รณรงค์ให้เด็กๆ สวมหมวกกั
 นน็อคก่อนซ้อน\nคุณเป็นคน
 ัดสิน 2 - 11 ก.ย. ที่ชั้น 1 หอศิ
 ป์ www.7-percent.org #7%slogo\nSample Tweets\nชมผลงา
 นเจ๋งๆ สนับสนุนนักออกแบบ
 รุ่นใหม่ และร่วมเลือกโลโ
 ก้ชวนน้องสวมหมวกก่อนซ้อ
  ที่ชั้น 1 หอศิลป์ 2 -\n11 ก.ย. www.
 7-percent.org #7%slogo\nโค้งสุดท้ายการป
 ะกวดโลโก้ชวนน้องสวมหมว
 กันน็อค ชมผลงานโดนใจกรร
 การ และร่วมโหวตได้ที่ชั
 น 1 BACC\n2 - 11 ก.ย. www.7-percent.org #7%slogo\nถ้าว
 นที่ 2-11 ก.ย. ใครแวะไปที่หอ
 ิลป์\nอย่าลืมมาชมงานที่เ
 ้ารอบสุดท้ายของเวทีประ
 วดโลโก้ชวนน้องสวมหมวกก่
 อนซ้อนกันนะคะ www.7-\npercent.org #7%slogo\n
 โลโก้ไหนที่จะช่วยให้เด็
 ๆหันมาสวมหมวกกันน็อคได
 มากขึ้น คุณเป็นคนตัดสิน 2
  - 11 ก.ย. ที่ชั้น 1 หอศิลป์\nwww.7-pe
 rcent.org #7%slogo\n\nFor more information visit http://www.portfolios
 .net/events/slogo-7
DTSTART;TZID=Asia/Bangkok:20140902T000000
DTEND;TZID=Asia/Bangkok:20140911T235900
CATEGORIES:art, exhibition, design
LOCATION:Bangkok Art and Culture Centre
WEBSITE:http://www.bacc.or.th
URL:http://www.bacc.or.th
CONTACT:02 214 6630-8
ORGANIZER:
ATTACH;FMTTYPE="image/jpeg":http://storage.ning.com/topology/rest/1.0/
 file/get/3023284361?profile=original
ATTENDEE;ROLE=REQ-PARTICIPANT;PARTSTAT=ACCEPTED;RSVP=TRUE;CN="NEWS POR
 TFOLIOS*NET":http://www.portfolios.net/profile/AdminNews
END:VEVENT
END:VCALENDAR
