BEGIN:VCALENDAR
PRODID:NingEventWidget-v1
VERSION:2.0
METHOD:PUBLISH
BEGIN:VTIMEZONE
TZID:Asia/Bangkok
X-LIC-LOCATION:Asia/Bangkok
BEGIN:STANDARD
TZOFFSETFROM:+0700
TZOFFSETTO:+0700
TZNAME:ICT
DTSTART:19700101T000000
END:STANDARD
END:VTIMEZONE
BEGIN:VEVENT
UID:2988839:Event:2412440
DTSTAMP:20260425T004419Z
SUMMARY:นิทรรศการ \"ส่งซิก\" (Sig)
DESCRIPTION:(*) For English please scroll down\n ส่งซิก 
 ับสุวิทย์ (ราฮวม) มาประจว
 \n A+789 Art Society ชวนทุกคนมาช่วยขย
 ิบตา ส่ายหัว ยกนิ้วโป้ง ช
 นิ้วกลางไปกับงานเพนท์ม
 นๆ และงานปั้นสนุกๆตามแบ
 ฉบับของสุวิทย์ (ราฮวม) มา
 ระจวบ\n \"ส่งซิก\"ที่ได้แรง
 ันดาลใจจากการหนีน้ำไปอย
 ู่ที่สูง นั่งดูข่าวช่องฟ
 รีทีวีอยู่ทุกวัน ครั้นจะ
 ทำงานปั้นใหญ่ๆก็พื้นที่
 ม่อำนวย สุวิทย์วาดรูป วา
 ดรูปและวาดรูป เมื่อน้ำลด
 สุวิทย์ก็ปั้น ปั้น ปั้น\n 
 นวันนี้งานเพ้นท์และงานป
 ั้นก็พร้อมปะทุจากอกสุวิ
 ย์ออกมาทักทายโลกแล้ว มา
 ่วยกันยินดีกับงานชุดให
 ่ของสุวิทย์ (ราฮวม) มาประ
 วบกันค่ะ\n ปาร์ตี้วันเปิด
 แบบเป็นกันเองในวันที่ 5 เ
 ษายน 2555 เวลา 18:00 น.เป็นต้นไป
 \n ณ A+789 Art Society Directed by HOF Art ห้อง B10 ชั
 น B1 อาคาร เดอะ สีลม แกลเลอ
 รีย\n นิทรรศการเปิดให้ชมว
 ันที่ 5 เมษายน - 5 พฤษภาคม\nวั
 นจันทร์ - เสาร์ 11:00 - 19:00 น.\n*ปิด
 วันอาทิตย์และวันหยุดนัก
 ัตฤกษ์*\n\nThe Opening Day of Art Exhibition\n\"sig.\" b
 y Suwit Maprajuab(Rahoum)\n A+789 Art Society (directed by Hof Art) pr
 oudly to invite you to attend “sig.” April art exhibition by Suwit
  Maprajuab(Rahoum.)\n Guessing the exploded Ideas with the ‘sig.’(
 nals) that the artist concealed in his lively paintings and playful sc
 ulptures.\n Opening Reception: Thursday, 5th April 2012 at 06:00 pm.\n
 Venue: A+789 Room B.10 Basement fl. Silom Galleria\nShow Date: 5th Apr
 il – 5th May 2012\nHour: Monday – Saturday, 11.00 – 19.00 hrs. (
 Closed on Sunday and public holidays)\n Further information, please co
 ntact:\nTel: + 2630 2545,+6689 915 9150, +6689 926 2196\nE-mail: aplus
 789artsociety@gmail.com, hofartinfo@gmail.com, hofcommunity@gmail.com\
 n www.facebook.com/HofArtThailand\n ADDRESS:\n A+789 Art Society\nRoom
  B.10 Basement fl.\nThe Silom Galleria Bldg.,\n919/1 Silom rd., Bkk 10
 500\nBTS: Surasak\n\nFor more information visit http://www.portfolios.
 net/events/sig
DTSTART;TZID=Asia/Bangkok:20120405T000000
DTEND;TZID=Asia/Bangkok:20120505T235900
CATEGORIES:art, exhibition, sculpture
LOCATION:The Silom Galleria
WEBSITE:http://www.facebook.com/HofArtThailand
URL:http://www.facebook.com/HofArtThailand
CONTACT:02 630 2545,089 915 9150,089 926 2196
ORGANIZER:
ATTACH;FMTTYPE="image/jpeg":http://storage.ning.com/topology/rest/1.0/
 file/get/3022895283?profile=original
ATTENDEE;ROLE=REQ-PARTICIPANT;PARTSTAT=ACCEPTED;RSVP=TRUE;CN="NEWS POR
 TFOLIOS*NET":http://www.portfolios.net/profile/AdminNews
END:VEVENT
END:VCALENDAR
