BEGIN:VCALENDAR
PRODID:NingEventWidget-v1
VERSION:2.0
METHOD:PUBLISH
BEGIN:VTIMEZONE
TZID:Asia/Bangkok
X-LIC-LOCATION:Asia/Bangkok
BEGIN:STANDARD
TZOFFSETFROM:+0700
TZOFFSETTO:+0700
TZNAME:ICT
DTSTART:19700101T000000
END:STANDARD
END:VTIMEZONE
BEGIN:VEVENT
UID:2988839:Event:3086443
DTSTAMP:20260421T121844Z
SUMMARY:นิทรรศการ \"Sensories\"
DESCRIPTION:Seniors from Thammasat showcase their graduation pieces an
 d productions at CDC, April 22 - 30, 2014.\nคณะศิลปก
 รมศาสตร์ ม.ธรรมศาตร์ เชิญ
 ชวนทุกท่านเข้าร่วมงาน Sensor
 ies ร่วมชมผลงานศิลปกรรมนิพ
 นธ์ ในรูปแบบการออกแบบแฟช
 ั่น สิ่งทอ ผลิตภัณฑ์ ละคอ
 เวที และการเคลื่อนไหวสร
 างสรรค์ ของนักศึกษาจาก 3 
 าขาของคณะ ได้แก่ ศิลปะกา
 รออกแบบพัสตราภรณ์ การละค
 อน และการออกแบบหัตถอุตสา
 หกรรม ณ CDC ระหว่างวันที่ 22 - 3
 0 เมษายน 2557 เวลา 10.00 - 20.00 น.\nพิธ
 เปิดวันเสาร์ที่ 26 เมษายน 2
 557 เวลา 15.30 น.\nเข้าชมฟรี!\n\nFor more 
 information visit http://www.portfolios.net/events/sensories
DTSTART;TZID=Asia/Bangkok:20140422T000000
DTEND;TZID=Asia/Bangkok:20140430T235900
CATEGORIES:art, exhibition
LOCATION:CDC Crystal Design Center
WEBSITE:
URL:
CONTACT:
ORGANIZER:
ATTACH;FMTTYPE="image/jpeg":http://storage.ning.com/topology/rest/1.0/
 file/get/3023213925?profile=original
ATTENDEE;ROLE=REQ-PARTICIPANT;PARTSTAT=ACCEPTED;RSVP=TRUE;CN="NEWS POR
 TFOLIOS*NET":http://www.portfolios.net/profile/AdminNews
END:VEVENT
END:VCALENDAR
