BEGIN:VCALENDAR
PRODID:NingEventWidget-v1
VERSION:2.0
METHOD:PUBLISH
BEGIN:VTIMEZONE
TZID:Asia/Bangkok
X-LIC-LOCATION:Asia/Bangkok
BEGIN:STANDARD
TZOFFSETFROM:+0700
TZOFFSETTO:+0700
TZNAME:ICT
DTSTART:19700101T000000
END:STANDARD
END:VTIMEZONE
BEGIN:VEVENT
UID:2988839:Event:2742960
DTSTAMP:20260419T215400Z
SUMMARY:Self-Passion
DESCRIPTION:The first solo exhibition\n\n\nFor more information visit 
 http://www.portfolios.net/events/self-passion-1
DTSTART;TZID=Asia/Bangkok:20130209T170000
DTEND;TZID=Asia/Bangkok:20130228T200000
CATEGORIES:art, exhibition
LOCATION:House of Commons - cafe & space
WEBSITE:https://www.facebook.com/events/159981764149707/?ref=notif&not
 if_t=plan_user_joined
URL:https://www.facebook.com/events/159981764149707/?ref=notif&notif_t
 =plan_user_joined
CONTACT:
ORGANIZER:HOC and Suthirak Rithraksa
ATTACH;FMTTYPE="image/jpeg":http://storage.ning.com/topology/rest/1.0/
 file/get/3023033548?profile=original
ATTENDEE;ROLE=REQ-PARTICIPANT;PARTSTAT=ACCEPTED;RSVP=TRUE;CN="Suthirak
  Rithraksa":http://www.portfolios.net/profile/Suthirak
END:VEVENT
END:VCALENDAR
