BEGIN:VCALENDAR
PRODID:NingEventWidget-v1
VERSION:2.0
METHOD:PUBLISH
BEGIN:VTIMEZONE
TZID:Asia/Bangkok
X-LIC-LOCATION:Asia/Bangkok
BEGIN:STANDARD
TZOFFSETFROM:+0700
TZOFFSETTO:+0700
TZNAME:ICT
DTSTART:19700101T000000
END:STANDARD
END:VTIMEZONE
BEGIN:VEVENT
UID:2988839:Event:3219852
DTSTAMP:20260425T231656Z
SUMMARY:นิทรรศการ \"ศิลปะ จาก กา
 รบำบัด\" (SELF+ ART Exhibition Therapy)
DESCRIPTION:SELF+ART Exhibition Therapy\nSELF+ ART Exhibition Therapy 
 นิทรรศการ ศิลปะ จาก การบำ
 ัด by Pasin Singhasaneh\nดำเนินงานโดย 
 รูแป๊ะ อ.จุมพล ชินะประพัฒ
 น์\n23 เมษายน ถึง 3 พฤษภาคม 2558 @
  สถาบันปรีดี พนมยงค์พิธี
 ปิด 23 เมษายน 2558 เวลา 17.30\nและWor
 kshop ศิลปะบำบัด เพื่อความเข
 ้าใจ สำหรับ บุคคลทั่วไปโ
 ย ครูอุ๋น สายใจ ศรีลิ้ม แ
 ะครูเชอรี่ แสงอุษณีษ์ นว
 มะรัตนในวันที่ 2-3 พฤษภาคม
  2558\nสอบถามรายละเอียดเพิ่ม
 เติมได้ที่\nสถาบันปรีดี พ
 มยงค์ 02 381 3860-1\nEmail: pridiinst@yahoo.com, miss.auti
 s@gmail.com, singhasaneh@gmail.com\nwww.facebook.com/pitan.singhasaneh
 \n\nFor more information visit http://www.portfolios.net/events/self-a
 rt-exhibition-therapy
DTSTART;TZID=Asia/Bangkok:20150423T000000
DTEND;TZID=Asia/Bangkok:20150503T235900
CATEGORIES:art, exhibition, painting
LOCATION:Pridi institute
WEBSITE:http://www.facebook.com/pitan.singhasaneh
URL:http://www.facebook.com/pitan.singhasaneh
CONTACT:
ORGANIZER:
ATTACH;FMTTYPE="image/jpeg":http://storage.ning.com/topology/rest/1.0/
 file/get/3023365721?profile=original
ATTENDEE;ROLE=REQ-PARTICIPANT;PARTSTAT=ACCEPTED;RSVP=TRUE;CN="NEWS POR
 TFOLIOS*NET":http://www.portfolios.net/profile/AdminNews
END:VEVENT
END:VCALENDAR
