BEGIN:VCALENDAR
PRODID:NingEventWidget-v1
VERSION:2.0
METHOD:PUBLISH
BEGIN:VTIMEZONE
TZID:Asia/Bangkok
X-LIC-LOCATION:Asia/Bangkok
BEGIN:STANDARD
TZOFFSETFROM:+0700
TZOFFSETTO:+0700
TZNAME:ICT
DTSTART:19700101T000000
END:STANDARD
END:VTIMEZONE
BEGIN:VEVENT
UID:2988839:Event:2800818
DTSTAMP:20260425T023353Z
SUMMARY:นิทรรศการ \"Sea Scape\"
DESCRIPTION:นิทรรศการ : Sea Scape\nศิลปิ
  : นักศึกษา ชั้นปีที่2 คณะจ
 ิตรกรรมประติมากรรมและภา
 พิมพ์ มหาวิทยาลัยศิลปาก
 \nวันที่ : 15 มีนาคม2556 – 20 เมษา
 ยน 2556\nสถานที่ : ร้อยสี Gallery (Royse
 e Gallery)\nที่อยู่ : ศูนย์ฯปัญญา
 ิลเลจ ถ.ปัญญาอินทรา (เปิด
 ห้เข้าชมและจำหน่ายงานศ
 ลปะทุกวัน 11.00 – 20.00 น)\nติดต่อ
 ทร : 02-508-7143\nร้อยสี Gallery จะจัดแ
 ดงงานนิทรรศการ Sea Scape ผลงาน
 ของนักศึกษา ชั้นปีที่2 คณ
 จิตรกรรมประติมากรรมและ
 าพพิมพ์ มหาวิทยาลัยศิลป
 กร\n\nFor more information visit http://www.portfolios.net/events
 /sea-scape
DTSTART;TZID=Asia/Bangkok:20130315T000000
DTEND;TZID=Asia/Bangkok:20130420T235900
CATEGORIES:art, exhibition
LOCATION:Roysee Gallery
WEBSITE:https://www.facebook.com/royseegallery
URL:https://www.facebook.com/royseegallery
CONTACT:
ORGANIZER:
ATTACH;FMTTYPE="image/jpeg":http://storage.ning.com/topology/rest/1.0/
 file/get/3023056576?profile=original
ATTENDEE;ROLE=REQ-PARTICIPANT;PARTSTAT=ACCEPTED;RSVP=TRUE;CN="NEWS POR
 TFOLIOS*NET":http://www.portfolios.net/profile/AdminNews
END:VEVENT
END:VCALENDAR
