BEGIN:VCALENDAR
PRODID:NingEventWidget-v1
VERSION:2.0
METHOD:PUBLISH
BEGIN:VTIMEZONE
TZID:Asia/Bangkok
X-LIC-LOCATION:Asia/Bangkok
BEGIN:STANDARD
TZOFFSETFROM:+0700
TZOFFSETTO:+0700
TZNAME:ICT
DTSTART:19700101T000000
END:STANDARD
END:VTIMEZONE
BEGIN:VEVENT
UID:2988839:Event:3168620
DTSTAMP:20260426T030250Z
SUMMARY:นิทรรศการ “ซีน” (SCENES)
DESCRIPTION:(*) For English please scroll down\n“ ซีน ”น
 ทรรศการ \" ซีน ”โดย ริชารด์
  มี๊ดวันที่ 25 ตุลาคม ถึงวั
 ที่ 23 พฤศจิกายน 2557\nจิตวิญญ
 าณของกรุงเทพฯ ขึ้นอยู่กั
 บผู้คนในเมือง ภาพแต่ละชิ
 ้นในงานนิทรรศการบันทึกเ
 ื่องราวของชีวิตในเมือง
 ลวง ย้ํา เตือนถึงความสมบ
 รณ์ ความแตกต่าง และความซ
 ับซ้อนในชีวิตประจําวันข
 งคน SCENES เป็นการฉลองความเป
 ็นคนไทย การแสดงออกซึ่งคว
 ามมีน้ําใจและความมีเสน่
 ์ดึงดูดใจ ภาพวาดเหล่านี
 ยังสะท้อนให้เห็นสัญญาท
 ่เรามีไว้กับสภาวะแวดล้อ
 ม รอบตัว SCENES บอกเล่าเรื่อง
 าวของชายชาวอังกฤษที่เฝ
 ามองกรุงเทพฯ ภาพวาดที่ม
 สีสันสดใสเหล่านี้สะท้อน
 ให้เห็นถึงความสงสัย ที่จ
 ะขุดค้นสังคมที่เขาทั้งร
 ้น้อยและรู้มากเกินไป ภา
 วาดชิ้นแรกได้รับการรัง
 รรค์ขึ้นในช่วงทศวรรษ 1980 ซ
 ึ่งเป็นช่วงที่เกิด การเป
 ลี่ยนแปลงทางสังคมขนานให
 ่ ถ่ายทอดภาพผู้คนที่เข้
 มีส่วนร่วมกับกิจกรรมทา
 เศรษฐกิจใหม่ๆ จิตวิญญาณ
 องการ เติบโตทางค้าแพร่ก
 ะจายไปทั่ว ภาพวาดแสดงให
 เห็นความวุ่นวายของท้องถ
 นน บาร์พัฒน์พงษ์และร้านอ
 าหาร ขณะที่งานชิ้น ใหม่ๆ 
 ะท้อนมุมมองที่กว้างกว่
 นั้น ไม่ว่าจะเป็นภาพวาด
 ุนัขที่พยายามปกป้องพื้น
 ที่ของตัวเอง คนไข้และพนั
 กงานผู้เร่งรีบในโรงพยาบ
 ล หรือแม้แต่ร้านอาหารที
 แสดงออกถึงความ ร่ํารวยท
 ่เกิดขึ้นใหม่ ภาพวาดเหล
 านี้สะท้อนยุคแห่งการเป
 ี่ยนแปลงครั้งใหม่ในกรุง
 เทพฯ อีกทั้งยังแสดงให้เห
 ็นถึงความรู้สึก ของศิลปิ
 นที่เกิดจากการถูกบีบคั้
  เร่งเร้าที่จะแสดงออกถึ
 สิ่งที่เขารับรู้\nประวัต
 ิศิลปิน ริชาร์ด มี้ดได้เ
 ียนภาพเรื่องราวชีวิตในก
 รุงเทพฯ มานาน กว่า 35 ปี โดย
 ผ่านการเรียนรู้และฝึกฝน
 ้วยตนเอง งานนิทรรศการภา
 เขียนนี้จัดขึ้นเป็นครั
 งแรก ในประเทศไทย\nริชาร์ด
 เกิดที่กรุงลอนดอน ประเทศ
 อังกฤษ เขามี ประสบการณ์ท
 างานที่หลากหลายในหลายปร
 ะเทศ เขา เป็นทั้งครู อาจา
 ย์มหาวิทยาลัย นักวิจัย น
 ักออกแบบ ละครเวที นักเขี
 นนิยาย บทละครและตําราวิ
 าการ เขา ศึกษาพรรคการเมื
 งหลายพรรคและลงสมัครรับ
 ลือกตั้ง ในปีพ.ศ. 2540 เขาเคย
 มีนิทรรศการเดี่ยวที่ Rupa Gall
 ery ประเทศมาเลเซีย เมื่อมา
 ยู่ในประเทศไทย กิจกรรมท
 ้งหลายต้องสะดุดลงด้วยโร
 คทางสมองใน ปีพ.ศ. 2555 หลังจา
 ออกจากโรงพยาบาล เขาเพิ่
 พลัง ในการทํางานพร้อมกั
 หันมาใช้สีอะคริลิกและข
 าย ขอบเขตเนื้อหาในการวา
 ภาพ ตอนนี้เขาเกษียณจากง
 น วิชาการและใช้ชีวิตส่ว
 ใหญ่ในกรุงเทพฯ กับภรรยา
 ละ ลูกชาย\n\nFor more information visit http://www.po
 rtfolios.net/events/scenes
DTSTART;TZID=Asia/Bangkok:20141025T000000
DTEND;TZID=Asia/Bangkok:20141123T235900
CATEGORIES:art, exhibition, painting
LOCATION:RMA Institute
WEBSITE:http://rmainstitute.net
URL:http://rmainstitute.net
CONTACT:02 663 0809
ORGANIZER:
ATTACH;FMTTYPE="image/jpeg":http://storage.ning.com/topology/rest/1.0/
 file/get/3023307389?profile=original
ATTENDEE;ROLE=REQ-PARTICIPANT;PARTSTAT=ACCEPTED;RSVP=TRUE;CN="NEWS POR
 TFOLIOS*NET":http://www.portfolios.net/profile/AdminNews
END:VEVENT
END:VCALENDAR
