BEGIN:VCALENDAR
PRODID:NingEventWidget-v1
VERSION:2.0
METHOD:PUBLISH
BEGIN:VTIMEZONE
TZID:Asia/Bangkok
X-LIC-LOCATION:Asia/Bangkok
BEGIN:STANDARD
TZOFFSETFROM:+0700
TZOFFSETTO:+0700
TZNAME:ICT
DTSTART:19700101T000000
END:STANDARD
END:VTIMEZONE
BEGIN:VEVENT
UID:2988839:Event:3547163
DTSTAMP:20260422T000533Z
SUMMARY:นิทรรศการ \"RIGHTS | TYPE\"
DESCRIPTION:คาฬวิท สตูดิโอ แอนด์ 
 กลเลอรี่ ภูมิใจนำเสนอ \"RIGH
 TS | TYPE\" นิทรรศการศิลปะจากกา
 พิมพ์ดีด พิธีเปิดนิทรรศ
 าร ในวันเสาร์ที่ 17 สิงหาค
 ม 2562 เวลา 18.00-22.30 น. (ไม่มีค่าใช
 ้จ่ายในการเข้าชม)นิทรรศก
 ารจัดแสดงวันที่ 17 สิงหาคม
  - 6 กันยายน 2562ที่ คาฬวิท สตู
 ิโอ แอนด์ แกลเลอรี่ (ซอยร
 วมฤดี 2 ,สถานีรถไฟฟ้า เพลิ
 นจิต ทางออกที่4) เปิดให้เข
 ้าชมทุกๆ วันอังคาร ถึง วั
 เสาร์ เวลา 10.00 - 18.00 น.ศิลปิน: 
 ัฐวุฒิ สิริเดชชัย สิทธิ 
 ือขั้นพื้นฐานของสังคมแล
 ะกฎหมาย สิทธิ คือจุดยืนข
 งเสรีภาพ สิ่งเหล่านี้เป
 นรากฐานของสังคมซึ่งเป็น
 เครื่องมือที่ปกป้องสิทธ
 ส่วนบุคคล และสิทธิแห่งส
 งคมที่ทุกคนยอมรับเป็นบ
 รทัดฐานเดียวกัน แต่ในสั
 คมทุกวันนี้สังคมถูกกลุ่
 มมีอำนาจ กลุ่มคนที่เห็นต
 ่างทางความคิด ต่างสีผิว 
 ่างศาสนา แตกต่างจากตนเอ
  ลิดรอนสิทธิ์ขั้นพื้นฐา
 ของมนุษย์ซึ่งเกิดขึ้นใน
 ไทยและต่างประเทศนิทรรศก
 รศิลปะเครื่องพิมพิ์ดีด \
 "RIGHTS | TYPE\" เป็นการเล่าเรื่อง
 าวผ่านตัวอักษรสู่รูปร่า
 ง, รูปทรง และภาพเหมือน พลั
 งแห่งงานเขียนและการเสนอ
 วามคิดเห็นจาก 30 นักเคลื่
 นไหวทางสังคม และศิลปิน ใ
 นคำถามที่ว่า “อะไรคือสิท
 ธิพื้นฐานที่คุณคิดว่าขา
 หายไปจากสังคมในปัจจุบั
 ?” เสียงเล็กๆ ของประชาชนท
 ี่สะท้อนและพลักดันที่ปร
 เทศของเราเป็นดั่งที่เร
 เรียกกันว่า ประเทศที่มี
 ารยธรรม...“ใช่หรือไม่”นอก
 เหนือจากนี้ ณัฐวุฒิ สิริ
 ดชชัย ยังมีงานเขียนที่เ
 ้าเรียกว่า “กวีเว้นวรรค
  เป็นการรวบรวมงานที่เกี
 ยวกับสิทธิ์ ผ่านคำและตั
 อักษรเกิดจากจางหายไปของ
 คำ จนเกิดเป็นความหมายใหม
 ่จนนำไปสู่เรื่องราวใหม่
 ข้อมูลเพิ่มเติมกรุณาติ
 ต่อ:022544629 ออฟฟิศ0876798159 คุณคิด08
 00544388 คุณเอมี่E-mail: kalwitstudio@gmail.comที
 อยู่: 119/14 ซอยร่วมฤดี2, ถ.วิท
 ุ, ลุมพินี, ปทุมวัน, กรุงเ
 พฯ 10330\n\nFor more information visit http://www.portfolios.net/
 events/rights-type
DTSTART;TZID=Asia/Bangkok:20190817T000000
DTEND;TZID=Asia/Bangkok:20190906T235900
CATEGORIES:art, exhibition, painting
LOCATION:Kalwit Studio &amp; Gallery
WEBSITE:
URL:
CONTACT:02 254 4629
ORGANIZER;CN="NEWS PORTFOLIOS*NET":http://www.portfolios.net/profile/A
 dminNews
ATTACH;FMTTYPE="image/jpeg":https://storage.ning.com/topology/rest/1.0
 /file/get/3433730757?profile=original
ATTENDEE;ROLE=REQ-PARTICIPANT;PARTSTAT=ACCEPTED;RSVP=TRUE;CN="NEWS POR
 TFOLIOS*NET":http://www.portfolios.net/profile/AdminNews
END:VEVENT
END:VCALENDAR
