BEGIN:VCALENDAR
PRODID:NingEventWidget-v1
VERSION:2.0
METHOD:PUBLISH
BEGIN:VTIMEZONE
TZID:Asia/Bangkok
X-LIC-LOCATION:Asia/Bangkok
BEGIN:STANDARD
TZOFFSETFROM:+0700
TZOFFSETTO:+0700
TZNAME:ICT
DTSTART:19700101T000000
END:STANDARD
END:VTIMEZONE
BEGIN:VEVENT
UID:2988839:Event:1391599
DTSTAMP:20260424T065517Z
SUMMARY:“Remain... Abreast... Familiar” Painting art exhibition
DESCRIPTION:\n\n\nแนวคิด (Concept)\n\n“ คงอยู
  เคียงคู่ คุ้นเคย ”\n\n... สิ่
 งต่างๆ ที่รายล้อมรอบตัวเ
 รานั้น เรารับรู้และเห็นม
 าตั้งแต่จาความได้ จนรู้ส
 ึกคุ้นเคยและชินตา\nสิ่งเ
 ล่านั้นอยู่มา หมุนเวียน 
 าวนาน และจะคงอยู่ต่อไปอ
 กยาวนานเกินที่เราจะคาด
 ดา\nและถือว่าเป็นความโชค
 ีของฉันที่ได้มีโอกาสเป
 นส่วนหนึ่งในช่วงเวลานั้
 น ได้รับรู้ ได้มองเห็น\nแล
 ะได้ถ่ายทอดเป็นภาพสีน้า
 ่านปลายพู่กันมาเป็นชิ้
 งานที่เรียบง่าย ...\n\n\nภาพใ
 ใจ / แรงบันดาลใจ\n\nเมื่อคร
 ้งที่ฉันนั้นยังคงเป็นเพ
 ียงเด็กผู้หญิงตัวเล็กๆย
 ยของฉันมักจะพาไปทำบุญท
 ่วัด\nด้วยทุกครั้งเมื่อม
 โอกาส จำได้ว่าบ่อยมาก หล
 ังจากที่ยายใส่บาตรเสร็จ
 ล้ว\nท่านมักจะเหลือข้าวเ
 อาไว้นิดหน่อยเพื่อนำมาก
 จนเป็นก้อนให้ฉันกินเสม
 \nข้าวสวยอุ่นๆ กลิ่นหอม แ
 ะมีรสหวาน เมื่ออมไว้นาน
  เป็นที่โปรดปรานของฉันม
 ก\nพอๆ กับการที่ได้ออกไปว
 ิ่งเล่นตามขั้นบันไดขึ้น
 ขาของวัด ณ ที่มีลมอ่อนๆ 
 ีกลิ่นหอมเจือจางของและอ
 ีกกิจกรรมหนึ่งที่ฉันชอบ
 ากคือการได้นั่งมองเด็ก
 ว้ผมมวย\nผิวสีต่างๆ เช่น 
 ขียว เหลือง ม่วงแดงก็มี น
 ั่งใช้มือตักเนยใส่ปาก เด
 ็กที่เดินบนดอกบัว\nกลางป
 าเขาและอีกมากมายจนจำไม่
 หมด ภาพเหล่านี้จะติดอยู่
 บนที่ว่างตามผนัง\nระหว่า
 ที่คนใส่ชุดสีเหลืองกำลั
 งนั่งกินข้าวกันอยู่ วันเ
 วลาผ่านไปจนถึงวันนี้ วัน
 ที่ฉันโตเป็นผู้ใหญ่แล้ว
 ันที่ไม่มียาย ภาพเหตุกา
 ณ์เหล่านั้นยังคงอยู่แบ
 เลือนลาง\n... เมื่อฉันได้มา
 อยู่ที่เชียงราย วัดแห่งห
 นึ่งทำให้ฉันได้เห็นภาพเ
 ล่านั้นได้ชัดเจนอีกครั
 ง ทุกอย่างเหมือนเดิมกลิ
 นหอมอ่อนๆที่ลอยมาตามลมค
 ือลั่นทมนั่นเอง ดอกสีเหล
 ืองสดใสที่มักจะมาพร้อมก
 บการสาดน้ำ ดอกคูณ และดอก
 ไม้อีกหลากหลายสีสันที่ผ
 ัดเปลี่ยนหมุนเวียน\nมาอว
 ดโฉม เบ่งบานตามกาลเวลา ค
 ที่ใส่ชุดสีเหลืองยังคงแ
 ต่งกายเหมือนเดิม\nไม่มีผ
  และคิ้ว นั้นคือผู้ที่สื
 ทอดศาสนามีผู้คนมาคอยใส
 บาตร\nและฉันเห็นหญิงที่ม
 ผมสีขาวกาลังตักข้าวใส่
 าตรพระโดย\nมีเด็กหญิงตัว
 ล็กเกาะชายเสื้ออยู่ข้า
 ๆ ฉันสัมผัสได้ถึงข้าวอุ
 นๆ หอมๆ\nที่อยู่ในมือของห
 ญิงชราคนนั้น\n\nFor more information visit htt
 p://www.portfolios.net/events/remain-abreast-familiar
DTSTART;TZID=Asia/Bangkok:20110317T000000
DTEND;TZID=Asia/Bangkok:20110407T235900
CATEGORIES:art, painting, exhibition
LOCATION:9Art Gallery / Architect Studio
WEBSITE:http://www.9artgallery.com/March%202011.html
URL:http://www.9artgallery.com/March%202011.html
CONTACT:0-5371-9110, 083 - 153-6021
ORGANIZER:
ATTACH;FMTTYPE="image/jpeg":http://storage.ning.com/topology/rest/1.0/
 file/get/3022705549?profile=original
ATTENDEE;ROLE=REQ-PARTICIPANT;PARTSTAT=ACCEPTED;RSVP=TRUE;CN="NEWS POR
 TFOLIOS*NET":http://www.portfolios.net/profile/AdminNews
END:VEVENT
END:VCALENDAR
