BEGIN:VCALENDAR
PRODID:NingEventWidget-v1
VERSION:2.0
METHOD:PUBLISH
BEGIN:VTIMEZONE
TZID:Asia/Bangkok
X-LIC-LOCATION:Asia/Bangkok
BEGIN:STANDARD
TZOFFSETFROM:+0700
TZOFFSETTO:+0700
TZNAME:ICT
DTSTART:19700101T000000
END:STANDARD
END:VTIMEZONE
BEGIN:VEVENT
UID:2988839:Event:3220722
DTSTAMP:20260426T003305Z
SUMMARY:นิทรรศการ “Reading The (In) Habitant”
DESCRIPTION:Koi Art Gallery is proud to present “Reading the (In) Ha
 bitant,” a visual art exhibition to be\nheld from May 8- June 14, 20
 15. This exhibition showcases the latest artworks by the\nindependent 
 studio Likaybindery, founded by artists Mali Chulakiet (Li) and Phanti
 pa\nThanchookiet (Kay), who share their passion for books, their aesth
 etic value, paper and\nthe design of information.\nLikaybindery is an 
 independent studio specializing in handmade bookbinding and the\nprodu
 ction of book based artworks since 2005. The founders Mali Chulakiet (
 Li) and Phantipa\nThanchookiet (Kay) have pursued their aspiration for
  fine arts and design and together\nformed their passion into reality 
 with Likaybindery.\n“Reading the (In) Habitant” is a duo exhibitio
 n that explores the structural form of books,\ncombining the technique
 s of bookmaking with fine arts inspired from the aesthetics of nature.
 \nTheir latest artworks in the form of visual art installation or book
  sculptures are versatile in\nnature.\nThe artists turn each piece int
 o a tool in finding the answer to a question, using the natural\nproce
 ss of ‘making > seeing > thinking.’ This method has long been used
  by artists and\nphilosophers since centuries to analyze and grasp the
  meaning of abstract concepts and\nobjects.\nUsing the medium of books
  as a space to explore, the medium turns from a tool of\ninformation i
 nto a physical and literal vehicle of artistic expression. The physica
 l structure of\npaper, scale and texture are used to challenge the pri
 mary objective of books. The physical\nart of book-making overpowers a
 ny previous form of communication it would have offered in\nits tradit
 ional form. The installations are present in the open for everyone to 
 ‘read.’\nArmed with various exhibitions in Thailand and background
  with Masters and Bachelor’s\ndegrees in various fields of Fine Arts
  and Communication abroad, the girls of Likaybindery\nseek to open the
  viewers’ perspective to the versatile nature of their creative effo
 rts.\nInterested public are invited to “Reading the (In) Habitant”
  Exhibition from May 8 – June 14, 2015\n(11.00 a.m. – 7.00 p.m.) a
 t Koi Art Gallery, 256 Sukhumvit 31 Road (Soi Sawaddee), Wattana,\nBan
 gkok, Tel. 02 662 3218.\n\nFor more information visit http://www.portf
 olios.net/events/reading-the-in-habitant
DTSTART;TZID=Asia/Bangkok:20150508T000000
DTEND;TZID=Asia/Bangkok:20150614T235900
CATEGORIES:art, exhibition, painting
LOCATION:koi art gallery
WEBSITE:http://www.koiartgallerybangkok.com
URL:http://www.koiartgallerybangkok.com
CONTACT:02 662 3218
ORGANIZER:
ATTACH;FMTTYPE="image/jpeg":http://storage.ning.com/topology/rest/1.0/
 file/get/3023370455?profile=original
ATTENDEE;ROLE=REQ-PARTICIPANT;PARTSTAT=ACCEPTED;RSVP=TRUE;CN="NEWS POR
 TFOLIOS*NET":http://www.portfolios.net/profile/AdminNews
END:VEVENT
END:VCALENDAR
