BEGIN:VCALENDAR
PRODID:NingEventWidget-v1
VERSION:2.0
METHOD:PUBLISH
BEGIN:VTIMEZONE
TZID:Asia/Bangkok
X-LIC-LOCATION:Asia/Bangkok
BEGIN:STANDARD
TZOFFSETFROM:+0700
TZOFFSETTO:+0700
TZNAME:ICT
DTSTART:19700101T000000
END:STANDARD
END:VTIMEZONE
BEGIN:VEVENT
UID:2988839:Event:3125814
DTSTAMP:20260420T171351Z
SUMMARY:นิทรรศการ “ธรรมชาติแห
 งจิต” (Nature of Mind)
DESCRIPTION:(*) For English please scroll down\n“ธรรมชา
 ิแห่งจิต”โดย สุพร แก้วดา
 ตั้งแต่วันที่ 17 กรกฎาคม – 3
 1 สิงหาคม 2557ณ ดีโอบี หัวลำโ
 งแกลเลอรี่ (ถนนพระราม 4) น
 ทรรศการ “Nature of mental: ธรรมชาติ
 ห่งจิต” นำเสนอผลงานวาดเ
 ้นดินสอไขบนผืนผ้าใบ ด้ว
 แนวความคิดเกี่ยวกับความ
 อ่อนไหวไม่มั่นคงของจิตใ
 มนุษย์ ซึ่งถูกยั่วยุและ
 ึงดูดให้หลงใหลไปกับกระ
 สวัตถุนิยมหรือความลวงแห
 ่งสมมติสัจจะท่ามกลางกระ
 สโลกาภิวัตน์อันฟ่องฟุ้
 ด้วยเงินตรา รวมถึงกิเลส
 ัณหาทางทุนนิยมได้อย่างง
 ่ายดาย เส้นสายลายริ้วของ
 สายน้ำที่พลิ้วไหวเป็นระ
 อกคลื่นจึงเป็นเสมือนตั
 แทนของจิตที่มีความเคลื่
 อนไหวเมื่อปัจจัยต่างๆ เข
 ้ามากระทบ และแสดงให้เห็น
 ถึงสัจธรรมของธรรมชาติที
 มีความเปลี่ยนแปลงผันแป
 อย่างไม่สิ้นสุด “Nature of Mind”By 
 Suporn KaewdaFrom July 17 – August 31, 2014At DOB Hualamphong Galler
 y (Rama IV Road) Nature of Mind is the latest solo art exhibition by S
 uporn Kaewda presenting the idea of humans’ wavering mind; its sensi
 tivity and instability. Moving ripples are used to symbolize the mind 
 that always affects by other factors that come into contact. Be it the
  objects in materialistic world, the twisted illusion in the midst of 
 globalization or humanly desires of capitalism. Suporn utilizes his ex
 pertise in drawing with litho pencil on canvas and reveals the unwaver
 ing truth of nature that is always wavered through time.\n\nFor more i
 nformation visit http://www.portfolios.net/events/nature-of-mind
DTSTART;TZID=Asia/Bangkok:20140717T000000
DTEND;TZID=Asia/Bangkok:20140831T235900
CATEGORIES:art, exhibition, drawing
LOCATION:DOB Hualamphong Gallery
WEBSITE:http://www.ardelgallery.com
URL:http://www.ardelgallery.com
CONTACT:02 237 5592-4
ORGANIZER:
ATTACH;FMTTYPE="image/jpeg":http://storage.ning.com/topology/rest/1.0/
 file/get/3023243134?profile=original
ATTENDEE;ROLE=REQ-PARTICIPANT;PARTSTAT=ACCEPTED;RSVP=TRUE;CN="NEWS POR
 TFOLIOS*NET":http://www.portfolios.net/profile/AdminNews
END:VEVENT
END:VCALENDAR
