BEGIN:VCALENDAR
PRODID:NingEventWidget-v1
VERSION:2.0
METHOD:PUBLISH
BEGIN:VTIMEZONE
TZID:Asia/Bangkok
X-LIC-LOCATION:Asia/Bangkok
BEGIN:STANDARD
TZOFFSETFROM:+0700
TZOFFSETTO:+0700
TZNAME:ICT
DTSTART:19700101T000000
END:STANDARD
END:VTIMEZONE
BEGIN:VEVENT
UID:2988839:Event:2916999
DTSTAMP:20260423T195216Z
SUMMARY:นิทรรศการ \"My Journey with Monters\"
DESCRIPTION:ขอเชิญพบกับ ผลงานแสด
 งเดี่ยวครั้งแรก !!\n\" My Journey with M
 onters \"\nของ เมย์ กมลชนก ภาณุเ
 ศย์\n(May&Clay ceramics studio)\nณ Studio Miu Art ทอง
 ล่อ 13\n\nFor more information visit http://www.portfolios.net/
 events/my-journey-with-monters
DTSTART;TZID=Asia/Bangkok:20130824T000000
DTEND;TZID=Asia/Bangkok:20130825T235900
CATEGORIES:art, exhibition, sculpture
LOCATION:Studio Miu Art
WEBSITE:
URL:
CONTACT:
ORGANIZER:
ATTACH;FMTTYPE="image/jpeg":http://storage.ning.com/topology/rest/1.0/
 file/get/3023116276?profile=original
ATTENDEE;ROLE=REQ-PARTICIPANT;PARTSTAT=ACCEPTED;RSVP=TRUE;CN="NEWS POR
 TFOLIOS*NET":http://www.portfolios.net/profile/AdminNews
END:VEVENT
END:VCALENDAR
