BEGIN:VCALENDAR
PRODID:NingEventWidget-v1
VERSION:2.0
METHOD:PUBLISH
BEGIN:VTIMEZONE
TZID:Asia/Bangkok
X-LIC-LOCATION:Asia/Bangkok
BEGIN:STANDARD
TZOFFSETFROM:+0700
TZOFFSETTO:+0700
TZNAME:ICT
DTSTART:19700101T000000
END:STANDARD
END:VTIMEZONE
BEGIN:VEVENT
UID:2988839:Event:3160242
DTSTAMP:20260426T014513Z
SUMMARY:นิทรรศการ “Monday 2 Monday”
DESCRIPTION:นิทรรศการศิลปะร่วมส
 ัย Monday 2 Monday โดย Varsha Nair เเละ Lena Eriks
 son10 ตุลาคม - 9 พฤศจิกายน 2557งาน
 เปิดนิทรรศการ: วันศุกร์ท
 ่ 10 ตุลาคม 2557 เวลา 18.00น. WTF เเก
 ลอรี่กรุงเทพ\nWTF เเกลลอรี่
 มีความยินดีขอเชิญท่านเข
 าร่วมงานเปิดเเละชมนิทร
 ศการศิลปะร่วมสมัยที่มีช
 ื่อว่า “Monday 2 Monday” โดย ศิลปิน
 องท่าน Varsha Nair (กรุงเทพ, ประเ
 ศไทย) เเละ Lena Eriksson (บาเซล, ประ
 เทศสวิซเซอร์เเลนด์)\nนิทร
 ศการครั้งนี้เกิดขึ้นจา
 โครงการ Monday 2 Monday ที่เริ่มก่
 ตั้งขึ้นตั้งเเต่ปี 2011 โด
 ศิลปินทั้งสองท่านที่อยู
 ่ห่างไกลกัน เเต่พยายามที
 ่จะสร้างช่องทางการสื่อส
 รขึ้นอย่างสม่ำเสมอเเละ
 ่อเนื่อง เป็นการสร้างให
 เห็นภาพของบทสนทนาที่เกิ
 ดขึ้นมายาวนานกว่า 3 ปีในร
 ปเเบบภาพยนตร์ นำเสนอผ่า
 วีดีโอสองช่องเเละงานศิ
 ปะจัดวางบนชั้นสองเเละสา
 มของ WTF เเกลลอรี่\nถึงเเม้ว
 ่าบทสนทนาจะมีจุดริเริ่ม
 าจากการเเสดงออกทางอารม
 ์ส่วนตัวระหว่างศิลปินทั
 ้งสองท่านอย่างไม่มีการต
 ้งค่าผลลัพท์ หรือระยะเว
 าที่ชัดเจนไว้ล่วงหน้า ย
 เว้นกฎที่ว่าต้องมีการส
 ่อสารเกิดขึ้นทุกวันจันท
 ร์ โปรเจ็ค Monday 2 Monday ได้ถูกพั
 นากลายเป็นโซ่ทางความคิ
  ซึ่งถือว่าเป็นเส้นทางเ
 ินสำคัญของศิลปะเเละขั้น
 ตอนหลักในการริเริ่มความ
 ิดสร้างสรรค์ รวมทั้งเเส
 งให้เห็นถึงความเพียรพย
 ยาม เเละพันธสัญญาส่วนตั
 ระหว่างศิลปินทั้งสองท่า
 น\nบทสนทนาที่มีความเข้มข
 น ไม่ว่าจะเป็นในรูปเเบบ
 ัวต่อตัว หรือการบันทึก ต
 างมีประวัติศาสตร์ที่ยา
 นานระหว่างกลุ่มศิลปินหร
 ือองค์กรทางวัฒนธรรมทั่ว
 ลก เเละได้กลายเป็นคอนเซ
 ปต์ที่มีความสำคัญมากขึ
 นเรื่อยๆในวงการศิลปะร่ว
 มสมัยในปัจจุบัน การเเลกเ
 ปลี่ยนเหล่านี้เป็นการเเ
 ดงให้เห็นว่าศิลปะเเละบ
 สนทนาสามารถเกิดขึ้นได้อ
 ย่างมีเเบบเเผนเเละเป็นน
 ยบายด้วยเช่นกัน\n\nFor more informatio
 n visit http://www.portfolios.net/events/monday-2-monday
DTSTART;TZID=Asia/Bangkok:20141010T000000
DTEND;TZID=Asia/Bangkok:20141109T235900
CATEGORIES:art, exhibition
LOCATION:WTF Café & Gallery
WEBSITE:http://www.wtfbangkok.com
URL:http://www.wtfbangkok.com
CONTACT:02 662 6246, 089 926 5474
ORGANIZER:
ATTACH;FMTTYPE="image/jpeg":http://storage.ning.com/topology/rest/1.0/
 file/get/3023295860?profile=original
ATTENDEE;ROLE=REQ-PARTICIPANT;PARTSTAT=ACCEPTED;RSVP=TRUE;CN="NEWS POR
 TFOLIOS*NET":http://www.portfolios.net/profile/AdminNews
END:VEVENT
END:VCALENDAR
