BEGIN:VCALENDAR
PRODID:NingEventWidget-v1
VERSION:2.0
METHOD:PUBLISH
BEGIN:VTIMEZONE
TZID:Asia/Bangkok
X-LIC-LOCATION:Asia/Bangkok
BEGIN:STANDARD
TZOFFSETFROM:+0700
TZOFFSETTO:+0700
TZNAME:ICT
DTSTART:19700101T000000
END:STANDARD
END:VTIMEZONE
BEGIN:VEVENT
UID:2988839:Event:2759197
DTSTAMP:20260419T232602Z
SUMMARY:นิทรรศการ \"LOVE : SELF-PASSION\"
DESCRIPTION:HOC Space and Suthirak present\n\"LOVE : SELF-PASSION\" by
  Suthirak Rithraksa\nART IS A PASSION\nART IS LOVE\nART IS ALWAYS BEAU
 TIFUL IN ITS OWN\nWe are welcome you to this month exhibition. The spa
 ce will be full of colors from the artist's paintings.\nOn the opening
  date Feb 9th, 2013\n@ 5 p.m. Welcome drink + greeting\n@ 6 p.m. Intro
 duction + chatting\nat House of commons Cafe & Space (Between Charoenn
 akorn Rd. 20 and 22)\nTel : 082 983 8099\n\nFor more information visit
  http://www.portfolios.net/events/love-self-passion
DTSTART;TZID=Asia/Bangkok:20130209T000000
DTEND;TZID=Asia/Bangkok:20130228T235900
CATEGORIES:art, exhibition, painting
LOCATION:House of Commons
WEBSITE:https://www.facebook.com/HOCSpace
URL:https://www.facebook.com/HOCSpace
CONTACT:082 983 8099
ORGANIZER:
ATTACH;FMTTYPE="image/jpeg":http://storage.ning.com/topology/rest/1.0/
 file/get/3023045981?profile=original
ATTENDEE;ROLE=REQ-PARTICIPANT;PARTSTAT=ACCEPTED;RSVP=TRUE;CN="NEWS POR
 TFOLIOS*NET":http://www.portfolios.net/profile/AdminNews
END:VEVENT
END:VCALENDAR
