BEGIN:VCALENDAR
PRODID:NingEventWidget-v1
VERSION:2.0
METHOD:PUBLISH
BEGIN:VTIMEZONE
TZID:Asia/Bangkok
X-LIC-LOCATION:Asia/Bangkok
BEGIN:STANDARD
TZOFFSETFROM:+0700
TZOFFSETTO:+0700
TZNAME:ICT
DTSTART:19700101T000000
END:STANDARD
END:VTIMEZONE
BEGIN:VEVENT
UID:2988839:Event:3349852
DTSTAMP:20260425T075744Z
SUMMARY:นิทรรศการ \"Liquid Bangkok\"
DESCRIPTION:Liquid Bangkok by Tim PellingCurated by Oya AydinFrom 3rd 
 of June until 24th of JuneOpening exhibition on the 3rd of June at 7pm
 \nLiquid Bangkok sets out to capture the beauty of a neglected world f
 ound along the klongs of Bangkok, and in doing so, also highlight the 
 degradated state of this vast network of waterways that flow through a
 nd around the city.\nThe water that passes through Bangkok has mesmeri
 sed me since my early days in the city – in part because it is in su
 ch contrast to the prairies of my youth. In Bangkok, I often found mys
 elf drawn to the klongs’ edges, seduced by the constantly changing l
 ight and shapes of the less than pristine tributaries. There is a dist
 inct and unique energy to be found there for those who make the effort
  to search them out. At the same time, it is a difficult place that co
 ntinually assaults the senses.\nMy images in this collection attempt t
 o capture these opposing qualities by weaving the form of the water in
 to the built environment that has grown around them. I don’t work wi
 th a preconceived plan, but make it more of a meditative journey.\nLiq
 uid Bangkok is the beginning of a wide-ranging water project using lar
 ge format landscape images as the vehicle to communicate the message o
 f “how we form water and how it forms us”. My roots are in documen
 tary photography and this is my first exploration using a technical ca
 mera with a large sensor back, which is a slower method of working. Th
 is has changed the way I approach each subject; the slow set up create
 s more time for reflection, requiring me to fully commit to a given lo
 cation.\nMy hope is that I have found an approach that defines these p
 laces with a measure of respect, without, however, glossing over the s
 erious environmental problems that plague this world of water that is 
 a stunning part of the Bangkok urban landscape.\nBiography Tim Pelling
 :With roots deep in the grasslands of Saskatchewan, Canada , Tim Pelli
 ng has reached out to explore the world through the lens of his camera
 .\nA graduate of Emily Carr School University of Art and Design, Vanco
 uver, Canada, Pellinghas been based in Asia for over 20 years . He tra
 vels the planet for a wide variety of clients creating images for corp
 orations, design firms, advertising agencies and media producers.\nTim
 's work is based on the philosophy “Keep it simple, clean and to the
  point”.\nComfortable realizing his vision while leading a crew of 2
 0 or alone in the field, Pelling is happiest when overcoming challenge
 s be they tricky locations, grim weather, culture differences or deman
 ding subject matter.\nTim is currently spending most of his time worki
 ng on art projects , swimming and falling off his bike.\n\nFor more in
 formation visit http://www.portfolios.net/events/liquid-bangkok
DTSTART;TZID=Asia/Bangkok:20170603T000000
DTEND;TZID=Asia/Bangkok:20170624T235900
CATEGORIES:art, exhibition
LOCATION:Soy Sauce Factory
WEBSITE:http://www.facebook.com/soysaucefactory
URL:http://www.facebook.com/soysaucefactory
CONTACT:061 835 6824
ORGANIZER;CN="NEWS PORTFOLIOS*NET":http://www.portfolios.net/profile/A
 dminNews
ATTACH;FMTTYPE="image/jpeg":http://storage.ning.com/topology/rest/1.0/
 file/get/3023500554?profile=original
ATTENDEE;ROLE=REQ-PARTICIPANT;PARTSTAT=ACCEPTED;RSVP=TRUE;CN="NEWS POR
 TFOLIOS*NET":http://www.portfolios.net/profile/AdminNews
END:VEVENT
END:VCALENDAR
