BEGIN:VCALENDAR
PRODID:NingEventWidget-v1
VERSION:2.0
METHOD:PUBLISH
BEGIN:VTIMEZONE
TZID:Asia/Bangkok
X-LIC-LOCATION:Asia/Bangkok
BEGIN:STANDARD
TZOFFSETFROM:+0700
TZOFFSETTO:+0700
TZNAME:ICT
DTSTART:19700101T000000
END:STANDARD
END:VTIMEZONE
BEGIN:VEVENT
UID:2988839:Event:2943451
DTSTAMP:20260423T145003Z
SUMMARY:ภาพยนตร์เรื่อง \"Les vacances de M
 onsieur Hulot\"
DESCRIPTION:ภาพยนตร์เรื่อง : Les vacances 
 de Monsieur Hulot ภาษา: เสียงในฟิล์ม
 าษาฝรั่งเศส คำบรรยายภาษ
 อังกฤษวันและเวลา: วันพฤห
 สบดีที่ 12 กันยายน 2013 เวลา 19.
 30 น.สถานที่: สมาคมฝรั่งเศส
 รุงเทพ เลขที่ 29 ถนนสาทรใต
 ้ข้อมูลเพิ่มเติม: 02 670-4231 หร
 อ อีเมล chalanthorn.kidthang@alliance-francaise.or.th\n
  สถานที่ตากอากาศชายฝั่ง
 อตแลนติค พวกคนชั้นกลางห
 ีความจำเจของตารางเวลาปร
 ะจำของตนมาสู่ตารางการพั
 ผ่อนที่ซ้ำซาก เมอสิเออร
 อูโลต์กลับทำให้การพักร
 อนที่น่าเบื่อดูมีสีสันม
 ากขึ้น เมื่อเขามาถึงกับพ
 ร้อมกับรถบุโรทั่งคู่ใจ ส
 ร้างเรื่องบ่วนจนกลายเป็
 ขวัญใจของพวกเด็กๆ เมอสิ
 ออร์อูโลต์จะทำให้ทุกคน
 ด้พบกับช่วงเวลาฤดูร้อนท
 ี่ไม่มีใครเคยสัมผัสมาก่
 น\nหนึ่งภาพยนตร์สุดคลาสส
 ิคของฝรั่งเศส\nLes Vacances de Monsieur Hulo
 tMonsieur Hulot's holidaysBy Jacques Tati - 1953\nIn a seaside resort 
 on the Atlantic coast, vacationers settle in, their city dweller habit
 s in tow. Monsieur Hulot, behind the wheel of his clanking old jalopy,
  shatters the summer quiet. To the children’s great delight, he’ll
  offer the hotel residents a vacation like one they’ve never known b
 efore. A classic film!\n\nFor more information visit http://www.portfo
 lios.net/events/les-vacances-de-monsieur-hulot
DTSTART;TZID=Asia/Bangkok:20130912T000000
DTEND;TZID=Asia/Bangkok:20130912T235900
CATEGORIES:film, cinema, movie
LOCATION:Alliance française de Bangkok
WEBSITE:http://www.afthailande.org
URL:http://www.afthailande.org
CONTACT:02 670 4230
ORGANIZER:
ATTACH;FMTTYPE="image/jpeg":http://storage.ning.com/topology/rest/1.0/
 file/get/3023132302?profile=original
ATTENDEE;ROLE=REQ-PARTICIPANT;PARTSTAT=ACCEPTED;RSVP=TRUE;CN="NEWS POR
 TFOLIOS*NET":http://www.portfolios.net/profile/AdminNews
END:VEVENT
END:VCALENDAR
