BEGIN:VCALENDAR
PRODID:NingEventWidget-v1
VERSION:2.0
METHOD:PUBLISH
BEGIN:VTIMEZONE
TZID:Asia/Bangkok
X-LIC-LOCATION:Asia/Bangkok
BEGIN:STANDARD
TZOFFSETFROM:+0700
TZOFFSETTO:+0700
TZNAME:ICT
DTSTART:19700101T000000
END:STANDARD
END:VTIMEZONE
BEGIN:VEVENT
UID:2988839:Event:3550376
DTSTAMP:20260423T160149Z
SUMMARY:นิทรรศการ \"Inflorescence\"
DESCRIPTION:\"ผลิร่าง พร่างผกา\" โด
  ฑีฆวุฒิ บุญวิจิตร และ วร
 วุฒิ โตอุรวงศ์ ระหว่างวั
 นที่ 7 พฤศจิกายน - 14 ธันวาคม 
 2562ณ อาร์เดลเธิร์ดเพลส แกล
 ลอรี (ทองหล่อซอย 10) นิทรรศ
 าร \"ผลิร่าง พร่างผกา\" นำเ
 นอผลงานจิตรกรรมของสองศ
 ลปินหนุ่ม อาจารย์จากรั้
 ศิลปากร ด้วยรูปแบบการสร
 างสรรค์ผลงานที่มีทั้งคว
 ามสอดคล้องและย้อนแย้งต่
 กัน โดย วราวุฒิ โตอุรวงศ
  นำเสนอผลงานจิตรกรรมชุด 
 ายดอก เป็นภาพบุคคลสวมใส
 เสื้อผ้าสีสันสดใสกับกร
 บรูปที่ไม่มีรูป สื่อแสด
 แนวความคิดเกี่ยวกับสิ่ง
 ที่ผู้คนให้คุณค่ากับสิ่
 ที่ผู้คนพยายามซ่อนเร้น 
 องสิ่งตรงกันข้ามนี้ล้ว
 ปรากฏอยู่ในทุกรายละเอีย
 ดของชีวิตมนุษย์ เนื่องเพ
 ราะย่อมเป็นธรรมดาที่เรา
 ่างมีสาระที่ต้องการเก็
 รักษาหรือละทิ้งไปในทุกเ
 รื่องราว ในขณะที่ ฑีฆวุฒ
  บุญวิจิตร นำเสนอผลงานชุ
  Blooming Garden เป็นภาพบุคคลท่ามก
 ลางสวนดอกไม้ต้นไม้อันร่
 รื่นชวนฝัน ด้วยแนวความค
 ดเกี่ยวกับการแสดงออกซึ
 งเสรีภาพทางเพศสภาพ ความ
 ท่าเทียมกันของความเป็นม
 นุษย์ ผู้ซึ่งมีสิทธิ์ที่
 จะเลือกคิดฝันและกระทำตา
 ความปรารถนาของตนเองได้
 ย่างมีความสุข\"Inflorescence\" By Theekawut
  Boonvijit and Warawut TourawongNovember 7 - December 14, 2019At ARDEL
 ’s Third Place Gallery (Thonglor soi 10)  Inflorescence is a duo exh
 ibition by artists and art instructors from Silpakorn University displ
 aying two series that are both harmonized and contradict all at the sa
 me time. The first artist is Warawut Tourawong presenting Floral Patte
 rn, a series of portraits that appears the models in eccentric clothin
 g and a picture frame without a picture. The concept of the artwork is
  about the things people value and those they are trying to hide, a co
 ntradiction that exists in every detail of a human’s life since norm
 ally we have something to keep to ourselves or just want to throw away
 . The other series Blooming Garden belongs to Theekawut Boonvijit. The
  paintings, featuring people in the middle of a dreamy flower garden, 
 focus on the subject of freedom of expression and gender equality for 
 those who have the right to think and do what they want, happily.\n\nF
 or more information visit http://www.portfolios.net/events/inflorescen
 ce
DTSTART;TZID=Asia/Bangkok:20191107T000000
DTEND;TZID=Asia/Bangkok:20191214T235900
CATEGORIES:art, exhibition, painting
LOCATION:ARDEL's Third Place Gallery
WEBSITE:
URL:
CONTACT:02 422 2092
ORGANIZER;CN="NEWS PORTFOLIOS*NET":http://www.portfolios.net/profile/A
 dminNews
ATTACH;FMTTYPE="image/jpeg":https://storage.ning.com/topology/rest/1.0
 /file/get/3558135688?profile=original
ATTENDEE;ROLE=REQ-PARTICIPANT;PARTSTAT=ACCEPTED;RSVP=TRUE;CN="NEWS POR
 TFOLIOS*NET":http://www.portfolios.net/profile/AdminNews
END:VEVENT
END:VCALENDAR
