BEGIN:VCALENDAR
PRODID:NingEventWidget-v1
VERSION:2.0
METHOD:PUBLISH
BEGIN:VTIMEZONE
TZID:Asia/Bangkok
X-LIC-LOCATION:Asia/Bangkok
BEGIN:STANDARD
TZOFFSETFROM:+0700
TZOFFSETTO:+0700
TZNAME:ICT
DTSTART:19700101T000000
END:STANDARD
END:VTIMEZONE
BEGIN:VEVENT
UID:2988839:Event:2873497
DTSTAMP:20260422T203320Z
SUMMARY:นิทรรศการศิลปะ “Illustration of 
 the crisis”
DESCRIPTION:(*) For English please scroll down\n นิทรรศก
 ารศิลปะ “Illustration of the crisis”\nโดยศ
 ลปิน นที อุตฤทธิ์\nจัดแสด
 ตั้งแต่วันที่ 18 กรกฎาคม – 
 31 สิงหาคม 2556\nณ หอศิลปมหาวิ
 ยาลัยกรุงเทพ วิทยาเขตกล
 วยน้ำไท   พิธีเปิดวันพฤหั
 สบดีที่ 18 กรกฎาคม 2556 เวลา 18.00
  น.  หอศิลปมหาวิทยาลัยกรุง
 เทพภูมิใจนำเสนอนิทรรศกา
 ศิลปะ “Illustration of the crisis” โดย นที
  อุตฤทธิ์ ศิลปินชั้นนำขอ
 ไทยที่ได้รับการยอมรับใน
 วงการศิลปะระดับนานาชาติ 
 หอศิลปมหาวิทยาลัยกรุงเท
 ได้รับเกียรติในการนำผล
 านมาจัดแสดงสู่สายตาชาวไ
 ทยเป็นครั้งแรก หลังจากที
 ่ได้จัดแสดงมาแล้วที่ประ
 ทศสวิตเซอร์แลนด์ ประเทศ
 ิงคโปร์ ประเทศฟิลิปปินส
 และประเทศเยอรมนี ซึ่งนิ
 รรศการครั้งนี้ได้ยืมผล
 านได้ขอยืมมาจากคอลเลคชั
 ่นต่างๆ ในภูมิภาคยุโรปแล
 ะเอเชียตะวันออกเฉียงใต้\
 nนิทรรศการศิลปะ “Illustration of the cri
 sis” ศิลปินได้ถ่ายทอดความห
 ลงใหลในภาษาภาพแบบจารีตด
 ้งเดิมของจิตรกรรม รวมถึ
 การตั้งคำถามต่อการเปลี
 ยนแปลงท่ามกลางวิกฤตต่าง
 ๆ ที่รายล้อมอยู่รอบตัว ผ
 านรูปสัญญะที่ประกอบด้วย
 ภาพหุ่นนิ่งที่เป็นสิ่งข
 งจำลองพลาสติก ภายใต้จิน
 นาการบรรยากาศของโลกเสม
 อนจริง\nนที อุตฤทธิ์ เกิด
 ี พ.ศ. 2513 จบการศึกษาระดับปร
 ิญญาตรี จากคณะจิตรกรรมปร
 ะติมากรรมและภาพพิมพ์ มหา
 วิทยาลัยศิลปากร เคยจัดแส
 ดงผลงานในเวทีศิลปะทั้งใ
 ทวีปเอเชียและยุโรป ตัวอ
 ่างเช่น ในปี พ.ศ. 2546 นิทรรศ
 าร Still Pictures จัดแสดง ณ Plum Blossoms Galler
 y ประเทศสิงคโปร์ ในปี พ.ศ. 254
 9 นิทรรศการThe fragment and the sublime จัดแ
 สดง ณ Valentine Willie Fine Art ประเทศมาเล
 เซีย ในปี พ.ศ. 2550 นิทรรศการThe
  Amusement of Dreams, Hope and Perfection จัดแสดง ณ 
 อศิลปวิทยนิทรรศน์ ศูนย์
 ิทยทรัพยากร จุฬาลงกรณ์ม
 าวิทยาลัย กรุงเทพ ในปี พ.
 . 2551 นิทรรศการTransparency happiness จัดแ
 สดง ณ Soka Art Center ประเทศจีน ในปี
  พ.ศ. 2553 นิทรรศการ Beacons of Archipelago จ
 ดแสดง ณ Arario Gallery ประเทศเกาหล
 ีใต้ ในปี พ.ศ. 2554 นิทรรศการ Fr
 om Asia to the World ร่วมแสดงในเทศกาล
 ิลปะนานาชาติ เวนิส เบียน
 นาเล่ ครั้ง 54 ประเทศอิตาล
  เป็นต้น\n\nFor more information visit http://www.portf
 olios.net/events/illustration-of-the-crisis
DTSTART;TZID=Asia/Bangkok:20130718T000000
DTEND;TZID=Asia/Bangkok:20130831T235900
CATEGORIES:art, exhibition, painting
LOCATION:Bangkok University Gallery
WEBSITE:http://www.facebook.com/bangkokuniversitygallery
URL:http://www.facebook.com/bangkokuniversitygallery
CONTACT:02 350 3626
ORGANIZER:
ATTACH;FMTTYPE="image/jpeg":http://storage.ning.com/topology/rest/1.0/
 file/get/3023095040?profile=original
ATTENDEE;ROLE=REQ-PARTICIPANT;PARTSTAT=ACCEPTED;RSVP=TRUE;CN="NEWS POR
 TFOLIOS*NET":http://www.portfolios.net/profile/AdminNews
END:VEVENT
END:VCALENDAR
