BEGIN:VCALENDAR
PRODID:NingEventWidget-v1
VERSION:2.0
METHOD:PUBLISH
BEGIN:VTIMEZONE
TZID:Asia/Bangkok
X-LIC-LOCATION:Asia/Bangkok
BEGIN:STANDARD
TZOFFSETFROM:+0700
TZOFFSETTO:+0700
TZNAME:ICT
DTSTART:19700101T000000
END:STANDARD
END:VTIMEZONE
BEGIN:VEVENT
UID:2988839:Event:1023537
DTSTAMP:20260421T204346Z
SUMMARY:Ignite Thailand++ ครั้งที่ 3
DESCRIPTION:\n\n\nประกาศ!! เตรียมพร้อ
  และเตรียมพบกับงาน Ignite Thailand
 ++ ครั้งที่ 3 กันได้แล้วค่ะ 
 ... ในวันพฤหัสบดีที่ 13 มกรา
 ม 2554 (เวลา 18.00-21.00 น.) ณ โรงภาพยน
 ตร์สกาล่า และสำหรับงาน Ignit
 e Thailand++ ในครั้งต่อไปที่จะถึ
 งนี้ ท่านจะได้พบกับ Igniter ถึ
 ง 22 ท่านที่จะมาร่วมปลุกพล
 ังคนไทย และอิ่มเอมใจไปกั
 บเรื่องราวดี ๆ ถึง 22 เรื่อ
  22 สไตล์... ลงทะเบียนเพื่อส
 ำรองที่นั่ง กันได้แล้วที
 ่นี่ค่ะ\n\nกำหนดการ\n\n\n\n17.30 น. - 
 ลงทะเบียน18.00 น.  - Ignite Show 18.45 น. - Ign
 ite Talk รอบที่ 1 พบกับ Igniter 12 ท่าน 
 19.45 น. - พัก 15 นาที21.00 น. - Ignite Talk รอ
 ที่ 2 พบกับ Igniter 11 ท่าน ***หมาย
 หตุ - กำหนดการต่าง ๆ อาจมี
 การเปลี่ยนแปลงได้ตามควา
 เหมาะสม\n\n\n\nFor more information visit http://www.p
 ortfolios.net/events/ignite-thailand-3
DTSTART;TZID=Asia/Bangkok:20110113T173000
DTEND;TZID=Asia/Bangkok:20110113T210000
CATEGORIES:talk, show, meeting
LOCATION:โรงภาพยนตร์สกาล่า
WEBSITE:http://www.ignite.in.th
URL:http://www.ignite.in.th
CONTACT:
ORGANIZER:
ATTACH;FMTTYPE="image/jpeg":http://storage.ning.com/topology/rest/1.0/
 file/get/3022680207?profile=original
ATTENDEE;ROLE=REQ-PARTICIPANT;PARTSTAT=ACCEPTED;RSVP=TRUE;CN="NEWS POR
 TFOLIOS*NET":http://www.portfolios.net/profile/AdminNews
ATTENDEE;ROLE=REQ-PARTICIPANT;PARTSTAT=TENTATIVE;RSVP=TRUE;CN=369Carry
 All:http://www.portfolios.net/profile/369CarryAll
END:VEVENT
END:VCALENDAR
