BEGIN:VCALENDAR
PRODID:NingEventWidget-v1
VERSION:2.0
METHOD:PUBLISH
BEGIN:VTIMEZONE
TZID:Asia/Bangkok
X-LIC-LOCATION:Asia/Bangkok
BEGIN:STANDARD
TZOFFSETFROM:+0700
TZOFFSETTO:+0700
TZNAME:ICT
DTSTART:19700101T000000
END:STANDARD
END:VTIMEZONE
BEGIN:VEVENT
UID:2988839:Event:3252357
DTSTAMP:20260421T064914Z
SUMMARY:นิทรรศการ \"Freedom & Captivity\"
DESCRIPTION:\n\"Freedom & Captivity\" exhibition features twelve mediu
 m sized sculptures inspired by the supremacy of mind upon freedom and 
 captivity. What appears to be freedom to one, may appear as captivity 
 to another. Both freedom and captivity can be imposed physically, ment
 ally, or both. Tinpalit argues that we are generally poor assessors of
  our own states of willful freedom and captivity. Though freedom and c
 aptivity are antonyms, delineating their boundaries in reality can be 
 far more complicated. This series attempts to represent this dichotomy
  through figurative representation. Birds represent freedom and humans
  represent the power of free will. These sculptures are intentionally 
 delphic to encourage viewers to contemplate their symbolic messages.\n
 \nFor more information visit http://www.portfolios.net/events/freedom-
 captivity
DTSTART;TZID=Asia/Bangkok:20150919T000000
DTEND;TZID=Asia/Bangkok:20151021T235900
CATEGORIES:art, exhibition, sculptures
LOCATION:La Lanta Fine Art
WEBSITE:http://www.lalanta.com/emerge/pimpisa-tinpalit/thumbnails/inde
 x.htm
URL:http://www.lalanta.com/emerge/pimpisa-tinpalit/thumbnails/index.ht
 m
CONTACT:02 260 5381, 02 204 0583
ORGANIZER;CN="NEWS PORTFOLIOS*NET":http://www.portfolios.net/profile/A
 dminNews
ATTACH;FMTTYPE="image/jpeg":http://storage.ning.com/topology/rest/1.0/
 file/get/3023403428?profile=original
ATTENDEE;ROLE=REQ-PARTICIPANT;PARTSTAT=ACCEPTED;RSVP=TRUE;CN="NEWS POR
 TFOLIOS*NET":http://www.portfolios.net/profile/AdminNews
END:VEVENT
END:VCALENDAR
