BEGIN:VCALENDAR
PRODID:NingEventWidget-v1
VERSION:2.0
METHOD:PUBLISH
BEGIN:VTIMEZONE
TZID:Asia/Bangkok
X-LIC-LOCATION:Asia/Bangkok
BEGIN:STANDARD
TZOFFSETFROM:+0700
TZOFFSETTO:+0700
TZNAME:ICT
DTSTART:19700101T000000
END:STANDARD
END:VTIMEZONE
BEGIN:VEVENT
UID:2988839:Event:1486028
DTSTAMP:20260425T221859Z
SUMMARY:งานนิทรรศการศิลปะ Formula of
  Memories โดย  Megumi Endo
DESCRIPTION:\n \nFormula of Memories by Megumi Endo\n \n13-15 May 20
 11, 7PM-11PM \nOpening Party: Friday 13 May 2011, 7PM\n \nMegumi End
 o is a Japanese artist based in America. She has exhibitions in severa
 l galleries in Portland Oregon and San Francisco California during 200
 7-2009. ‘Formula of Memories’ is Megumi Endo’s first-time offici
 al art exhibition in Bangkok Thailand. It will be show at Nospace Gall
 ery RCA from 13 to 15 May 2011, 7PM-11PM.\n \nMore Information about 
 artist 'Megumi Endo'\nwww.gz-la.com\nMore Information about the exhibi
 tion ‘Formula of Memories’\nwww.nospacebkk.com\n \nNospace Galle
 ry\n21/108 Block D, Royal City Avenue (RCA)\nBangkok Thailand 10320\n0
 84-134-1184\ninfo@nospacebkk.com\nwww.nospacebkk.com\n \nNospace Gall
 ery ภูมิใจเสนอ\nงานนิทรรศกา
 ศิลปะภาพเขียนร่วมสมัย โ
 ย Megumi Endo ศิลปินชาวญี่ปุ่น ท
 ี่มีผลงานจัดแสดงหลายแห่
 ในประเทศอเมริกา ตั้งแต่
 ี 2007-2009\nFormula of Memories เป็นงานแสดง
 ครั้งแรกในประเทศไทยอย่า
 เป็นทางการของ Megumi Endo จัดแส
 งที่ Nospace Gallery ตั้งแต่วันที่
  13 ถึง 15 พฤษภาคม 2011 เวลา 19.00-23.00 
 .\nวันเปิดงานวันศุกร์ที่ 1
 3 พฤษภาคม 2011 เวลา 19.00 น. เป็นต
 นไป\n \nข้อมูลเพิ่มเติมเกี
 ่ยวกับศิลปิน Megumi Endo\nwww.gz-la.com\nข
 อมูลเพิ่มเติมเกี่ยวกับง
 านนิทรรศการFormula of Memories\nwww.nospacebkk.c
 om\n \nNospace Gallery\n21/108 ตึก ดี รอยัลซิ
 ตี้อเวนิว (อาร์ซีเอ)\n***ตึก
 ี อยู่ตรงข้ามกับ 7-Eleven\nซอยศ
 ูนย์วิจัย-พระราม 9 ถนนพระร
 าม 9\nแขวงบางกะปิ เขตห้วยข
 าง\nกรุงเทพ ประเทศไทย 10320\n084-
 134-1184\ninfo@nospacebkk.com\nwww.nospacebkk.com\n\nFor more informat
 ion visit http://www.portfolios.net/events/formula-of-memories-megumi
DTSTART;TZID=Asia/Bangkok:20110513T190000
DTEND;TZID=Asia/Bangkok:20110515T230000
CATEGORIES:art, exhibition
LOCATION:Nospace Gallery
WEBSITE:http://www.nospacebkk.com
URL:http://www.nospacebkk.com
CONTACT:084-134-1184
ORGANIZER;CN="Nospace Gallery":http://www.portfolios.net/profile/nospa
 cebkk
ATTACH;FMTTYPE="image/jpeg":http://storage.ning.com/topology/rest/1.0/
 file/get/3022722380?profile=original
ATTENDEE;ROLE=REQ-PARTICIPANT;PARTSTAT=ACCEPTED;RSVP=TRUE;CN="Nospace 
 Gallery":http://www.portfolios.net/profile/nospacebkk
ATTENDEE;ROLE=REQ-PARTICIPANT;PARTSTAT=ACCEPTED;RSVP=TRUE;CN="yoko sak
 amoto":http://www.portfolios.net/profile/yokosakamoto
ATTENDEE;ROLE=REQ-PARTICIPANT;PARTSTAT=ACCEPTED;RSVP=TRUE;CN="PORTFOLI
 OS*NET":http://www.portfolios.net/profile/creator
END:VEVENT
END:VCALENDAR
