BEGIN:VCALENDAR
PRODID:NingEventWidget-v1
VERSION:2.0
METHOD:PUBLISH
BEGIN:VTIMEZONE
TZID:Asia/Bangkok
X-LIC-LOCATION:Asia/Bangkok
BEGIN:STANDARD
TZOFFSETFROM:+0700
TZOFFSETTO:+0700
TZNAME:ICT
DTSTART:19700101T000000
END:STANDARD
END:VTIMEZONE
BEGIN:VEVENT
UID:2988839:Event:2755356
DTSTAMP:20260419T203743Z
SUMMARY:นิทรรศการ \"Flower of Love\"
DESCRIPTION:\"Flower of Love\"\nArt Exhibition of the Flower ..for LOV
 E..\n11-17 กุมภาพันธ์ 2556\nณ แกรนด์
 ฮอล์ลชั้น1 เอสพลานาดงามว
 ศ์วาน-แคราย\nเอสพลานาดอาร
 ์ตโชว์ครั้งที่5\nขอนำท่าน
 ข้าสู่ความผลิบานอันแสน
 วานของดอกไม้แห่งรัก ด้ว
 ศิลปะแห่งรักนำโดยสล่าวา
 รินท์ ใจจรรย์ทึก\nและเหล่
 เพื่อนศิลปินกลุ่มFree Bird แล
 กลุ่มศิลปิรสัญจร ที่ร่ว
 กันนำสารแห่งความงามของ
 วลดอกไม้\nมาร่วมกันจรรโล
 หัวใจให้ฉ่ำหวานในเดือน
 ห่งความรักร่วมกัน\nพบกับ
 ิจกรรสร้างสรรค์โดยกลุ่
 ศิลปินและ สาธิตศิลปะม้ว
 กระดาษ Quilling paperในวันพฤหัสบด
 ีที่14กุมภาพันธ์\n11-17 February 2013\nBy 
 Salahwarin & Artists Friend\n1 floor Esplanade Cineplex Ngamwongwang-K
 haerai\nhttp://www.facebook.com/esplanadeartgallery\n\nFor more inform
 ation visit http://www.portfolios.net/events/flower-of-love
DTSTART;TZID=Asia/Bangkok:20130211T000000
DTEND;TZID=Asia/Bangkok:20130217T235900
CATEGORIES:art, exhibition, painting
LOCATION:Esplanade Art Gallery
WEBSITE:http://www.facebook.com/esplanadeartgallery
URL:http://www.facebook.com/esplanadeartgallery
CONTACT:081 443 5573
ORGANIZER:
ATTACH;FMTTYPE="image/jpeg":http://storage.ning.com/topology/rest/1.0/
 file/get/3023040761?profile=original
ATTENDEE;ROLE=REQ-PARTICIPANT;PARTSTAT=ACCEPTED;RSVP=TRUE;CN="NEWS POR
 TFOLIOS*NET":http://www.portfolios.net/profile/AdminNews
END:VEVENT
END:VCALENDAR
