BEGIN:VCALENDAR
PRODID:NingEventWidget-v1
VERSION:2.0
METHOD:PUBLISH
BEGIN:VTIMEZONE
TZID:Asia/Bangkok
X-LIC-LOCATION:Asia/Bangkok
BEGIN:STANDARD
TZOFFSETFROM:+0700
TZOFFSETTO:+0700
TZNAME:ICT
DTSTART:19700101T000000
END:STANDARD
END:VTIMEZONE
BEGIN:VEVENT
UID:2988839:Event:1473792
DTSTAMP:20260425T103153Z
SUMMARY:นิทรรศการ แสดงผลงานศิ
 ปะ เพาะช่าง (FineArt Thesis Exhibition 2011)
DESCRIPTION:\n\nART THESIS 11th: POH CHANG ACADEMY OF ART\n\nงาน
 แสดงการแสดงศิลปนิพนธ์ ART TH
 ESIS 11th\nโดยนักศึกษาสาขาวิชา
 ิตรกรรม ประติมากรรมและศ
 ลปะภาพพิมพ์ วิทยาลัยเพา
 ช่าง มหาวิทยาลัยเทคโนโล
 ีราชมงคลรัตนโกสินทร์\n\nเ
 ื่อเป็นการเผยแพร่ความรู
 ้ความเข้าใจทางด้านศิลปะ
 ห้แก่ประชาชนทั่วไปและน
 กศึกษาที่สนใจ อีกทั้งทา
 นักศึกษาเองก็ได้มีโอกาส
 ในการพัฒนาสร้างสรรค์ผลง
 นศิลปะของตนเองอีกด้วย\n\n
 อเชิญผู้ที่สนใจในงานนิ
 รรศการเข้าร่วมชม\nระหว่า
 วันที่ 25 เมษายน - 4 พฤษภาคม 2
 554 เวลาเปิดทำการ 10.00-20.00 น (ทุก
 วัน)\n\nพิธีเปิดงาน\n25 เมษายน
  2554 ณ เดอะสีลมแกลเลอเรีย ช
 ้น4 เวลา 16.30 น.\nกล่าวเปิดงาน
 โดย คุณลลิสา จงบารมี ประธ
 นคณะกรรมการมูลนิธิธารศ
 ลป์รักษ์จิตรกร\n\nFor more information vi
 sit http://www.portfolios.net/events/fineart-thesis-exhibition
DTSTART;TZID=Asia/Bangkok:20110425T000000
DTEND;TZID=Asia/Bangkok:20110504T235900
CATEGORIES:art, exhibition, painting, sculpture, graphic
LOCATION:สีลม แกลอเรีย
WEBSITE:http://www.facebook.com/photo.php?fbid=149645725097354&set=a.1
 49645718430688.30368.143429955718931&type=1&ref=nf
URL:http://www.facebook.com/photo.php?fbid=149645725097354&set=a.14964
 5718430688.30368.143429955718931&type=1&ref=nf
CONTACT:
ORGANIZER:
ATTACH;FMTTYPE="image/jpeg":http://storage.ning.com/topology/rest/1.0/
 file/get/3022717800?profile=original
ATTENDEE;ROLE=REQ-PARTICIPANT;PARTSTAT=ACCEPTED;RSVP=TRUE;CN="PORTFOLI
 OS*NET":http://www.portfolios.net/profile/creator
END:VEVENT
END:VCALENDAR
