BEGIN:VCALENDAR
PRODID:NingEventWidget-v1
VERSION:2.0
METHOD:PUBLISH
BEGIN:VTIMEZONE
TZID:Asia/Bangkok
X-LIC-LOCATION:Asia/Bangkok
BEGIN:STANDARD
TZOFFSETFROM:+0700
TZOFFSETTO:+0700
TZNAME:ICT
DTSTART:19700101T000000
END:STANDARD
END:VTIMEZONE
BEGIN:VEVENT
UID:2988839:Event:1465477
DTSTAMP:20260425T221748Z
SUMMARY:FERNANDO ACEVES HUMANA: Lithographs
DESCRIPTION:FERNANDO ACEVES HUMANAÂ LithographsÂ 12 May ~ 30 June 2011
  TOOT YUNG GALLERYÂ opening reception Thursday May 12th starting 7.00 
 pmÂ The Toot Yung Gallery is please to present the lithographs of Mexi
 can artist, Fernando Aceves Humanas from May 12th to June 30 th 2011.Â
  Fernando Aceves Humana is established as an independent artist in Oax
 aca, Mexico. His lithographs are famous for their flamboyant colors an
 d their crude, realistic yet surreal subjects.Â His paintings, drawing
 s and lithographs often approach topics of ecology, animals trapped in
  urban landscapes. The fiery skies, the expressive gestures of animals
  and their scared looks gives to his work an impression of apocalypse.
 Â Fernando has been working with the famous engraving studio ''Bramsen
 '' in Paris in 2009 on the production of this serie of large lithograp
 hs. These lithographs are part of his catalogue ''En Riesgo'' publishe
 d in the framework of the exhibition ''En Riesgo'' in the ''Museo de l
 os pintores Oaxaquenos'' in 2009.Â BIOGRAPHYÂ Born in Mexico City in 1
 969, Fernando Aceves Humana studied Fine Art at the Universidad Nacion
 al Autonoma de Mexico and majored in printmaking at the Academy of Bel
 le Arti di Roma, Italy.Â Aceves Humana has been awarded the young arti
 sts program of the National Fund for Culture and the Arts and has earn
 ed the scholarship of artistic excellence in France with a residency a
 t Cite Internationale des Arts in Paris, where the series In Riesgo be
 gan.Â In 2007 Fernando Aceves Humana and Javier Arean established the 
 first metal engraving print workshop at the National Faculty of Fine A
 rts in Vientiane and Luang Prabang in Laos.Â Aceves Humana has receive
 d various awards including IX National Meeting of Young Artists, Tamay
 o 1st National Biennale of Graphic Arts and Honourable Mention in the 
 XIV Biennale Rufino Tamayo.Â He has exhibited in Mexico, Switzerland, 
 Senegal, Spain, France, Italy, Vietnam and England.Â In 2008 he bacame
  a member of Sistema Nacional de Creadores, FONCA, Mexico.Â Within En 
 Riesgo, Aceves Humana has developed a portfolio of lithographs in coll
 aboration with the workshops of Clot Bramsen in Paris. Aceves Humana n
 ow works and teaches in Oaxaca City, Mexico.Â \n\nFor more information
  visit http://www.portfolios.net/events/fernando-aceves-humana
DTSTART;TZID=Asia/Bangkok:20110512T000000
DTEND;TZID=Asia/Bangkok:20110630T235900
CATEGORIES:art, exhibition, photography
LOCATION:TOOT YUNG GALLERY
WEBSITE:http://www.tootyunggallery.com
URL:http://www.tootyunggallery.com
CONTACT:
ORGANIZER:
ATTACH;FMTTYPE="image/jpeg":http://storage.ning.com/topology/rest/1.0/
 file/get/3022716828?profile=original
ATTENDEE;ROLE=REQ-PARTICIPANT;PARTSTAT=ACCEPTED;RSVP=TRUE;CN="NEWS POR
 TFOLIOS*NET":http://www.portfolios.net/profile/AdminNews
END:VEVENT
END:VCALENDAR
