BEGIN:VCALENDAR
PRODID:NingEventWidget-v1
VERSION:2.0
METHOD:PUBLISH
BEGIN:VTIMEZONE
TZID:Asia/Bangkok
X-LIC-LOCATION:Asia/Bangkok
BEGIN:STANDARD
TZOFFSETFROM:+0700
TZOFFSETTO:+0700
TZNAME:ICT
DTSTART:19700101T000000
END:STANDARD
END:VTIMEZONE
BEGIN:VEVENT
UID:2988839:Event:3229038
DTSTAMP:20260425T054518Z
SUMMARY:นิทรรศการ \"Emptiness and Wisdom\"
DESCRIPTION:นิทรรศการ Emptiness and Wisdomโดย 
 สมลักษณ์ ปันติบุญ และ อนุ
 ันธุ์ พฤกษ์พันธ์ขจีเปิด
 ิทรรศการวันศุกร์ที่ 5 มิ
 ุนายน 2558 เวลา 19.00 น.ประธานใน
 ิธีโดย อาจารย์นคร พงษ์น้
 อย ผู้อำนวยการอุทยานศิลป
 ะวัฒนธรรมแม่ฟ้าหลวง (ไร่
 ม่ฟ้าหลวง) เชียงรายณ ขัวศ
 ิลปะ เชียงราย นิทรรศการจ
 ดแสดงวันที่ 5-28 มิถุนายน 2558\
 n\nFor more information visit http://www.portfolios.net/events/emptine
 ss-and-wisdom
DTSTART;TZID=Asia/Bangkok:20150605T000000
DTEND;TZID=Asia/Bangkok:20150628T235900
CATEGORIES:art, exhibition
LOCATION:ArtBridge ChiangRai
WEBSITE:http://www.artbridgechiangrai.org
URL:http://www.artbridgechiangrai.org
CONTACT:053 166 623
ORGANIZER:
ATTACH;FMTTYPE="image/jpeg":http://storage.ning.com/topology/rest/1.0/
 file/get/3023380320?profile=original
ATTENDEE;ROLE=REQ-PARTICIPANT;PARTSTAT=ACCEPTED;RSVP=TRUE;CN="NEWS POR
 TFOLIOS*NET":http://www.portfolios.net/profile/AdminNews
END:VEVENT
END:VCALENDAR
