BEGIN:VCALENDAR
PRODID:NingEventWidget-v1
VERSION:2.0
METHOD:PUBLISH
BEGIN:VTIMEZONE
TZID:Asia/Bangkok
X-LIC-LOCATION:Asia/Bangkok
BEGIN:STANDARD
TZOFFSETFROM:+0700
TZOFFSETTO:+0700
TZNAME:ICT
DTSTART:19700101T000000
END:STANDARD
END:VTIMEZONE
BEGIN:VEVENT
UID:2988839:Event:2755265
DTSTAMP:20260420T010955Z
SUMMARY:นิทรรศการ ‎\"Digital Traveling Show\" The 
 91st Art Directors Club Traveling Exhibition
DESCRIPTION:นิทรรศการรวมผลงานสุ
 ยอดด้านงานออกแบบเรขศิล
 ์ และงานออกแบบโฆษณา ที่ไ
 ้รับรางวัลจากทั่วโลก คร
 ้งที่ 91 ในรูปแบบ Digital File\nตั้
 แต่วันที่ 8-28 กุมภาพันธ์ 2556
 \nจันทร์-เสาร์ 10:00-18:00 น.\n(แกเล
 รี่ปิดวันอาทิตย์)\nพิธีเป
 ิด วันศุกร์ที่ 8 กุมภาพันธ
 ์ 2556 เวลา 12:00 น.\n\nFor more information visit http://
 www.portfolios.net/events/digital-traveling-show-the-91st-art-director
 s-club-traveling
DTSTART;TZID=Asia/Bangkok:20130208T000000
DTEND;TZID=Asia/Bangkok:20130228T235900
CATEGORIES:art, exhibition, design
LOCATION:Bangkok University Gallery
WEBSITE:https://www.facebook.com/bangkokuniversitygallery
URL:https://www.facebook.com/bangkokuniversitygallery
CONTACT:02 350 3626
ORGANIZER:
ATTACH;FMTTYPE="image/jpeg":http://storage.ning.com/topology/rest/1.0/
 file/get/3023040765?profile=original
ATTENDEE;ROLE=REQ-PARTICIPANT;PARTSTAT=ACCEPTED;RSVP=TRUE;CN="NEWS POR
 TFOLIOS*NET":http://www.portfolios.net/profile/AdminNews
END:VEVENT
END:VCALENDAR
