BEGIN:VCALENDAR
PRODID:NingEventWidget-v1
VERSION:2.0
METHOD:PUBLISH
BEGIN:VTIMEZONE
TZID:Asia/Bangkok
X-LIC-LOCATION:Asia/Bangkok
BEGIN:STANDARD
TZOFFSETFROM:+0700
TZOFFSETTO:+0700
TZNAME:ICT
DTSTART:19700101T000000
END:STANDARD
END:VTIMEZONE
BEGIN:VEVENT
UID:2988839:Event:2862624
DTSTAMP:20260424T105916Z
SUMMARY:งาน \"Comic X10 Summer 2013: Reset Reboot Reunion\"
DESCRIPTION:Comic X10 Summer 2013: Reset Reboot Reunion\nใครส
 ใจด้านการ์ตูน เชิญมาเข้
 ร่วมที่ TKpark อุทยานการเรีย
 นรู้ ได้นะครับ อาทิตย์ที
  2 มิถุนายนนี้แล้ว\nเวลา 11.30 
 - 12.00 : เสวนาเรื่อง “เด็กไทย
 ับการ์ตูนญี่ปุ่น จากอดี
 ถึงปัจจุบัน\" กับ แฟนพันธ
 ์แท้การ์ตูนญี่ปุ่นยุคคล
 าสสิค คุณจีระนันท์ จิระบ
 ญยานนท์\nเวลา 12.00 - 12.30 : พูดคุ
 พิเศษในหัวข้อ \"พากย์ให้เ
 ป็นต้องทำยังไง ยากมั้ยกว
 ่าการ์ตูนญี่ปุ่นจะมาไทย\
 " กับ คุณสุลักษณา เทพหัสดิ
 น (น้าหน่อย) คุณธวัช รัตตะ
 ัย (น้าต่อ) และ ทีมงาน Gang Cartoon
 \n\nFor more information visit http://www.portfolios.net/events/comic-
 x10-summer-2013-reset-reboot-reunion
DTSTART;TZID=Asia/Bangkok:20130602T000000
DTEND;TZID=Asia/Bangkok:20130602T235900
CATEGORIES:art, exhibition
LOCATION:TKpark
WEBSITE:http://www.tkpark.or.th
URL:http://www.tkpark.or.th
CONTACT:02 257 4300
ORGANIZER:
ATTACH;FMTTYPE="image/jpeg":http://storage.ning.com/topology/rest/1.0/
 file/get/3023088801?profile=original
ATTENDEE;ROLE=REQ-PARTICIPANT;PARTSTAT=ACCEPTED;RSVP=TRUE;CN="NEWS POR
 TFOLIOS*NET":http://www.portfolios.net/profile/AdminNews
END:VEVENT
END:VCALENDAR
