BEGIN:VCALENDAR
PRODID:NingEventWidget-v1
VERSION:2.0
METHOD:PUBLISH
BEGIN:VTIMEZONE
TZID:Asia/Bangkok
X-LIC-LOCATION:Asia/Bangkok
BEGIN:STANDARD
TZOFFSETFROM:+0700
TZOFFSETTO:+0700
TZNAME:ICT
DTSTART:19700101T000000
END:STANDARD
END:VTIMEZONE
BEGIN:VEVENT
UID:2988839:Event:3155309
DTSTAMP:20260420T071843Z
SUMMARY:งาน “Colors of the Heart”
DESCRIPTION:งาน “Colors of the Heart” เพื่อกา
 กุศลวันอาทิตย์ที่ ๕ ตุลา
 คม ๒๐๑๔เวลา ๐๙.๐๐ น. – ๑๕.๐๐
 .สถานที่ บ้านคามิลเลียนเ
 ื่อเด็กพิการ ลาดกระบัง\n
 อขอบคุณ ศิลปิน นักร้อง แล
 ะ ดารานักแสดงรับเชิญจิตอ
 าสา:อาจารย์ วสันต์ สิทธิเ
 ตต์ศิลปิน ทราย วรรณพร ฉิ
 บรรจงอาจารย์ ประทีป คชบั
 อาจารย์อำฤทธิ์ ชูสุวรรณ 
 และนักศึกษาจากคณะจิตรกร
 ม ประติมากรรม และภาพพิมพ
 ์ มหาวิทยาลัยศิลปากรกิจก
 รรม: เพนท์หน้า ใดยคุณซินด
 ้ สิรินยา บิชอฟคุณอู๋ ธร
 พ์ณธร ปาลกะวงศ์ ณ อยุธยาว
 งดนตรี บัฟฟาโล่ โปรเจค วง
 นตรี เดอะแจม จาร์ แบนด์ว
 ดนตรี แจ่มสุขวงดนตรี ดับ
 บิ้ล เอเอการแสดง หุ่นละค
 รเล็ก โจ-หลุยส์ วงดนตรี ซี
 เอ็ม แบนด์ จากบ้านคามิเล
 ยนFashion Show: บ้านคามิเลียน และ
  กลุ่มนางแบบ-นายแบบPerformance ว
 ดภาพโดยน้องทับทิมจากบ้า
 นคามิเลียน\nพิธีกร : มิเชล
 ์ ซีเกรฟ-เดลี่เพ็ญนภา กิต
 ติลดากุล\nดีเจ : เฮง (โคตรอิ
 นดี้)\nภายในงานได้จัดเตรี
 มกิจกรรมสนุกๆมากมายสำห
 ับเด็กและผู้ใหญ่ อาทิ บู
 กิจกรรมออกร้าน, ดนตรีสด 
 ิลปะ การแสดง งานประมูลสิ
 ค้าเพื่อการกุศล และอาหา
 หลากหลาย-เครื่องดื่ม\n\"Colors
  of the Heart” คือโครงการประชาสั
 พันธ์ ศิลปินในกรุงเทพมห
 นครและใกล้เคียง เพื่อเข
 าร่วมแสดงผลงานจิตกรรมบน
 กำแพงและฝาผนัง ณ บ้านคาม
 ลเลียนลาดกระบัง เพื่อสร
 างเสริมความฝันและจินตนา
 การกับน้องๆผู้พิการที่ไ
 ่มีโอกาสได้ออกไปสนุกสน
 นนอกบ้านบ่อยครั้งนัก\n\nFor m
 ore information visit http://www.portfolios.net/events/colors-of-the-h
 eart
DTSTART;TZID=Asia/Bangkok:20140905T000000
DTEND;TZID=Asia/Bangkok:20140905T235900
CATEGORIES:art, exhibition
LOCATION:Camillian Home Latkrabang
WEBSITE:http://www.facebook.com/Camillian.home
URL:http://www.facebook.com/Camillian.home
CONTACT:02 360 7852
ORGANIZER:
ATTACH;FMTTYPE="image/jpeg":http://storage.ning.com/topology/rest/1.0/
 file/get/3023284405?profile=original
ATTENDEE;ROLE=REQ-PARTICIPANT;PARTSTAT=ACCEPTED;RSVP=TRUE;CN="NEWS POR
 TFOLIOS*NET":http://www.portfolios.net/profile/AdminNews
END:VEVENT
END:VCALENDAR
