BEGIN:VCALENDAR
PRODID:NingEventWidget-v1
VERSION:2.0
METHOD:PUBLISH
BEGIN:VTIMEZONE
TZID:Asia/Bangkok
X-LIC-LOCATION:Asia/Bangkok
BEGIN:STANDARD
TZOFFSETFROM:+0700
TZOFFSETTO:+0700
TZNAME:ICT
DTSTART:19700101T000000
END:STANDARD
END:VTIMEZONE
BEGIN:VEVENT
UID:2988839:Event:2941349
DTSTAMP:20260422T233305Z
SUMMARY:นิทรรศการ “เส้น – สี แห
 งธรรมชาติ” (Color of Nature)
DESCRIPTION:นิทรรศการ “เส้น – สี แ
 ห่งธรรมชาติ” (Color of Nature)\nศิลป
 น ณัฐสุธี เตชะวิริยะทวีส
 น (Nutsuree Techawiriyataweesin)\nลักษณะงาน จ
 ตรกรรม\nระยะเวลาที่จัดแส
 ดง 17 ตุลาคม – 4 พฤศจิกายน 2556\n
 ิธีเปิดนิทรรศการ วันที่ 
 17 ตุลาคม 2556 เวลา 18.30น.\nห้องนิ
 รรศการ ห้องนิทรรศการชั้
  2\nติดต่อศิลปิน 087 5167363\nแนวค
 ามคิด\nเส้น สี แห่งธรรมชา
 ิ\nธรรมชาติมีความลึกลับ ม
 หัศจรรย์ มีสรรพสิ่งที่งด
 งามมหาศาลหาที่สุดมิได้ ส
 ิ่งเหล่านี้คือความบันดา
 ใจในการทำงานศิลปะ เพื่อ
 ะท้อนให้เห็นถึงความประ
 ับใจต่อแง่มุมและมุมมองท
 ี่มีความหลากหลาย โดยถ่าย
 ทอดแนวทางสร้างสรรค์ ผ่าน
 กระบวนการของ เส้น สี แสงแ
 ะผีแปรง ด้วยอารมณ์ความร
 ้สึกกับสิ่งที่เผชิญอยู
 ตรงหน้า เพื่อแสดงให้เห็
 ถึง ฤดูกาล เวลา การเคลื่อ
 นไหว บรรยากาศ ให้เป็นผลง
 นจิตรกรรมที่มีชีวิตชีวา
  สร้างสรรค์ออกมาเป็นชุดน
 ามธรรมในธรรมชาติ\nบทกวีแ
 ่งโชคชะตา\nมนุษย์เดินผ่า
 ร่มเงาของความทุกข์ สุข ส
 มหวัง เหงา รัก เศร้า ตามท่
 วงทำนองจังหวะของชีวิต กา
 รก้าวเดินในแต่ละช่วงเวล
 ของมนุษย์ล้วนเผชิญไปกั
 อุปสรรคน้อยใหญ่ อันเป็น
 าระของชีวิตที่ไม่อาจหลี
 กเลี่ยงได้ สติสัมปชัญญะท
 ี่มีในกายใจมนุษย์เท่านั
 นที่เป็นดั่งพาหนะนำพาจ
 ตพ้นไกลหายวิตก ในขณะมี่
 ารขับเคลื่อนไป ของชีวิต 
 ้วยอารมณ์คงเกิดได้เพีย
 เรื่องเศร้าหมอง ที่กัดก
 ่อนใจมนุษย์ชายหญิงให้วิ
 โยคโศกร้าง ตามวาระแห่งกา
 รกระทำ จิตรกรรมชุดนี้ ดั
 งมโนภาพสะท้อนความจริงแท
 ้ การเปรียบเปรยอุปมาอุปไ
 มโดยอาศัยรูปลักษณะสัญลั
 ษณ์ วิธีการจิตรกรรม เป็น
 ตัวสื่อสารเรื่องราวนัยย
 ความหมาย\n\nFor more information visit http://www.po
 rtfolios.net/events/color-of-nature
DTSTART;TZID=Asia/Bangkok:20131017T000000
DTEND;TZID=Asia/Bangkok:20131104T235900
CATEGORIES:art, exhibition, painting
LOCATION:Chamchuri Art Gallery
WEBSITE:http://www.Chamchuriartgallery.blogspot.com
URL:http://www.Chamchuriartgallery.blogspot.com
CONTACT:02 218 3709
ORGANIZER:
ATTACH;FMTTYPE="image/jpeg":http://storage.ning.com/topology/rest/1.0/
 file/get/3023128883?profile=original
ATTENDEE;ROLE=REQ-PARTICIPANT;PARTSTAT=ACCEPTED;RSVP=TRUE;CN="NEWS POR
 TFOLIOS*NET":http://www.portfolios.net/profile/AdminNews
END:VEVENT
END:VCALENDAR
