BEGIN:VCALENDAR
PRODID:NingEventWidget-v1
VERSION:2.0
METHOD:PUBLISH
BEGIN:VTIMEZONE
TZID:Asia/Bangkok
X-LIC-LOCATION:Asia/Bangkok
BEGIN:STANDARD
TZOFFSETFROM:+0700
TZOFFSETTO:+0700
TZNAME:ICT
DTSTART:19700101T000000
END:STANDARD
END:VTIMEZONE
BEGIN:VEVENT
UID:2988839:Event:2947417
DTSTAMP:20260421T042706Z
SUMMARY:นิทรรศการ “เผาใจ” (Burnt Heart
 )
DESCRIPTION:(*) For English please scroll down\nนิทรรศก
 ร “ เผาใจ” Burnt Heart\nโดย ชญานิษ
 ฐ์ ม่วงไทย\nพิธเปิดนิทรรศ
 าร วันศุกร์ที่ 4 ตุลาคม 2556 
 วลา 18.00 น.\nนิทรรศการจัดแสด
 ระหว่างวันที่ 4-31 ตุลาคม 2556
  ณ แกลเลอรี่ เอ็น ถนนวิทยุ
 \n\nภาพพิมพ์ที่สร้างขึ้นโด
 ยผ่านกระบวนการการเผาไหม
 ของไฟ ความบ้าคลั่งของลา
 เส้นและพื้นผิว กับความล
 ่มหลงร้อนเร่าแผดเผาในใ
  เมื่อมวลอารมณ์ที่ร้อนป
 ทุสงบนิ่งลง คำตอบเพียงช
 ่วขณะ ความเจ็บปวดที่ว่า
 เปล่า และการตั้งคำถามกั
 ชีวิต ครั้งแล้วครั้งเล่
  ก่อเกิดการเผาไหม้ที่สร
 างการเกิดใหม่ โลกดูราวม
 ความหมายขึ้นมาอีกครั้ง 
 ผาใจ จึงไม่ใช่การทำลายล
 างหัวใจ แต่เป็นการปัดกว
 ดด้วยไฟให้อารมณ์ได้ปลดป
 ล่อย ฝังลงไปในร่องรอยการ
 กระทำ\n\nBurnt Heart Exhibition\nBy ChayanichMuangthai\nOpen
 ing Reception is on Friday, 4 October 2013, at 6 pm.\nOn view from 4 -
  31 October 2013 at Galerie N on Withayu Road\n\nChayanichMuangthai is
  a young, talented female artist with unique art creations. Her Intagl
 io is created by the use of fire to create lines, traces and texturing
 .\nThe intensity of lines and textures, combined with her inner burnin
 g creates an explosive madness.\nWhen all the heat and burning subside
 s, a temporary answer emerges, an empty pain and questions of life. Ag
 ain and again… Creating another burning creating another rebirth.\nA
 nd the world seems to have more meaning.\nSo a Burnt Heart does not de
 stroy.\nBut is cleansed by fire.\nAll those traces and lines evidence 
 of the journey.\n\nFor more information visit http://www.portfolios.ne
 t/events/burnt-heart
DTSTART;TZID=Asia/Bangkok:20131004T000000
DTEND;TZID=Asia/Bangkok:20131031T235900
CATEGORIES:art, exhibition, print
LOCATION:Galerie N bangkok
WEBSITE:http://www.facebook.com/galerieNbangkok
URL:http://www.facebook.com/galerieNbangkok
CONTACT:
ORGANIZER:
ATTACH;FMTTYPE="image/jpeg":http://storage.ning.com/topology/rest/1.0/
 file/get/3023132135?profile=original
ATTENDEE;ROLE=REQ-PARTICIPANT;PARTSTAT=ACCEPTED;RSVP=TRUE;CN="NEWS POR
 TFOLIOS*NET":http://www.portfolios.net/profile/AdminNews
END:VEVENT
END:VCALENDAR
