BEGIN:VCALENDAR
PRODID:NingEventWidget-v1
VERSION:2.0
METHOD:PUBLISH
BEGIN:VTIMEZONE
TZID:Asia/Bangkok
X-LIC-LOCATION:Asia/Bangkok
BEGIN:STANDARD
TZOFFSETFROM:+0700
TZOFFSETTO:+0700
TZNAME:ICT
DTSTART:19700101T000000
END:STANDARD
END:VTIMEZONE
BEGIN:VEVENT
UID:2988839:Event:3140524
DTSTAMP:20260420T083338Z
SUMMARY:นิทรรศการภาพถ่ายและเ
 รามิก “บุรีอุ้ม” (BURIUM)
DESCRIPTION:(*) For English please scroll down\n “ บุรีอ
 ้ม ” นิทรรศการภาพถ่ายและ
 ซรามิก โดย วศินบุรี สุพา
 ิชวรภาชน์  วันที่ 24 กรกฏาค
 ม ถึงวันที่ 7 กันยายน 2557  BURIUM (
  Buri + Arium) อ่านตามสำเนียงเยอร
 ันว่า “บุรีอุ้ม” เกิดจาก
 การผสมคำ คือ บุรี ที่เป็น
 ื่อตอนเกิดของผม และเป็น
 ื่อที่ผมเริ่มเจอสิ่งที
 ตัวเองชอบ และ Arium คำที่มาจ
 กภาษาลาตินที่แปลว่าภาช
 ะที่ใส่ของ หรือ พื้นที่ส
 หรับบางสิ่ง งานแสดงนิทร
 ศการเดี่ยวครั้งที่ 2 ของ
 ศินบุรี สุพานิชวรภาชน์ ง
 น BURIUM เป็นงานแสดงภาพถ่ายแ
 ละเซรามิก ที่จะเน้นการทำ
 งานที่เกิดขึ้นร่วมกันระ
 ว่างศิลปินและเหตุการณ์
 ี่เหนือการควบคุม หรือคว
 มบังเอิญ เช่นเซรามิก ที่
 ล่นกับการก้าวเข้าไปเกิ
 ขอบของความเป็นไปได้ทางว
 ัสดุ เช่น เผาจนเกินกว่าค
 ามเป็นไปได้ของวัสดุ หรื
 ภาพถ่ายที่เล่นกับช่วงจั
 งหวะ เวลา และสิ่งที่มนุษ
 ์แม้เป็นผู้กำหนดแต่ควบค
 ุมได้แค่บางส่วนเท่านั้น
 ช่นกัน จนกลายมาเป็นรูปแ
 บงานที่ คือ “ผลลัพธ์” ขอ
 การที่จะพยายามควบคุม สิ
 งที่ไม่สามารถ ควบคุมได้ 
 ลลัพธ์ที่ได้ คือ ผลของงา
 นที่เกิดขึ้นร่วมกันของม
 ุษย์กับธรรมชาติ หรือ สิ่
 งที่เราอาจเรียกได้ว่า ชะ
 ตากรรม\nBURIUM Photographs and ceramics exhibition\n24 JUL
 Y – 7 SEPTEMBER 2014\nRMA Institute is very pleased to announce the 
 second solo exhibition by Wasinburee Supanichvoraparch\nBurium (pronou
 nced as Bu-ri-oom) is the portmanteau of Buri, my birth name and the n
 ame I used when I found my art, and the word Atrium, a Latin word for 
 room or receptacle. Second solo exhibition of Wasinburee Supanichworap
 at at RMA institute is a photography and ceramic exhibition, in which 
 the artist’s intent and events beyond his control or the “coincide
 nces” were combined to produce the final arts. Ceramics were fired b
 eyond the maximum temperature. Photographs were taken at moments that 
 subjects did not have absolute control of their reaction. The results 
 are the collaborations of man and nature, of what we might call destin
 y.\n\n\n\nFor more information visit http://www.portfolios.net/events/
 burium
DTSTART;TZID=Asia/Bangkok:20140724T000000
DTEND;TZID=Asia/Bangkok:20140907T235900
CATEGORIES:art, exhibition, photo, photography, sculpture
LOCATION:RMA Institute
WEBSITE:
URL:
CONTACT:
ORGANIZER:
ATTACH;FMTTYPE="image/jpeg":http://storage.ning.com/topology/rest/1.0/
 file/get/3023266376?profile=original
ATTENDEE;ROLE=REQ-PARTICIPANT;PARTSTAT=ACCEPTED;RSVP=TRUE;CN="NEWS POR
 TFOLIOS*NET":http://www.portfolios.net/profile/AdminNews
END:VEVENT
END:VCALENDAR
