BEGIN:VCALENDAR
PRODID:NingEventWidget-v1
VERSION:2.0
METHOD:PUBLISH
BEGIN:VTIMEZONE
TZID:Asia/Bangkok
X-LIC-LOCATION:Asia/Bangkok
BEGIN:STANDARD
TZOFFSETFROM:+0700
TZOFFSETTO:+0700
TZNAME:ICT
DTSTART:19700101T000000
END:STANDARD
END:VTIMEZONE
BEGIN:VEVENT
UID:2988839:Event:2351961
DTSTAMP:20260421T163743Z
SUMMARY:นิทรรศการ  “บางกอก, ฉบั
 ที่ ๒๕๕๕ ” (Bangkok, Volume 2555)
DESCRIPTION:\n(*) For English please scroll down\n หอศิลป
  แอด บอง แกลเลอเรีย มีควา
 ยินดีเรียนเชิญท่านร่วม
 ป็นเกียรติ\nในพิธีเปิดนิ
 รรศการ\n“ บางกอก, ฉบับที่ 
 ๕๕๕ ”\nโดย ธีรวัฒน์ นุชเจร
 ญผล\nใน วันเสาร์ที่ 3 มีนา
 ม 2555 เวลา 18.00 น.\nณ. หอศิลป์ แอ
  บอง แกลเลอเรีย กรุงเทพฯ\n
 ิทรรศการแสดงระหว่างวัน
 ี่ 3 – 28 มีนาคม 2555\nทุกวันอัง
 าร – อาทิตย์ เวลา 10.00 น. – 18.00 
 . (หยุดวันจันทร์)\n >>>>>>>>>>>>>>>>>>>>>>
 \n@ BONGALLERIA requests the pleasure of your company at\nopening rece
 ption of the art exhibition\n“ Bangkok, Volume 2555 ”\nBy Teerawat
  Nutchareanphol\nOn Saturday, March 3, 2011 at 06.00 pm.\nAt @ BONGALL
 ERIA\nThe art exhibition is on view from 3 – 28 March 2012\nTuesday 
 – Sunday 10.00 am.-06.00 pm. (Closed on Monday)\nFor further in form
 ation, please contact at number 0-2158-0186\n\n\nFor more information 
 visit http://www.portfolios.net/events/bangkok-volume-2555
DTSTART;TZID=Asia/Bangkok:20120303T000000
DTEND;TZID=Asia/Bangkok:20120328T235900
CATEGORIES:art, exhibition, painting
LOCATION:@BONGALLERIA
WEBSITE:https://www.facebook.com/atbongalleria.social
URL:https://www.facebook.com/atbongalleria.social
CONTACT:02 158 0186
ORGANIZER:
ATTACH;FMTTYPE="image/jpeg":http://storage.ning.com/topology/rest/1.0/
 file/get/3022867762?profile=original
ATTENDEE;ROLE=REQ-PARTICIPANT;PARTSTAT=ACCEPTED;RSVP=TRUE;CN="NEWS POR
 TFOLIOS*NET":http://www.portfolios.net/profile/AdminNews
END:VEVENT
END:VCALENDAR
