BEGIN:VCALENDAR
PRODID:NingEventWidget-v1
VERSION:2.0
METHOD:PUBLISH
BEGIN:VTIMEZONE
TZID:Asia/Bangkok
X-LIC-LOCATION:Asia/Bangkok
BEGIN:STANDARD
TZOFFSETFROM:+0700
TZOFFSETTO:+0700
TZNAME:ICT
DTSTART:19700101T000000
END:STANDARD
END:VTIMEZONE
BEGIN:VEVENT
UID:2988839:Event:2531357
DTSTAMP:20260425T173412Z
SUMMARY:นิทรรศการ \"วานหมาบอก\" (A
 SKED DOG TO TELL )
DESCRIPTION:นิทรรศการ วานหมาบอก (A
 SKED DOG TO TELL )\nศิลปิน ชุมพล คำวรร
 ณะ (CHUMPOL KAMWANNA)\nลักษณะงาน จิตรก
 รรม\nระยะเวลาที่จัดแสดง 31 
 ิงหาคม – 16 กันยายน 2555\nห้อง
 ิทรรศการ ห้องนิทรรศการช
 ้น 2\nแนวความคิด\nไอ้…ปากหม
 า!!! ไอ้…ชิงหมาเกิด!!! ไอ้…ห
 าขี้เรื้อน!!! ตายเหมือนหม
 ข้างถนน ฯลฯ\nเสียงสบถต่าง
 ๆเหล่านี้ แสดงถึงคำพูดเป
 รียบเปรยว่าคนกับหมานั้น
 กล้ชิดกัน ตลอดระยะเวลา5-6 
 ปีที่ผ่านมา สังคมมีแต่คว
 ามอึมครึม ผู้คนในสังคมเก
 ิดความหวาดระแวงซึ่งกันแ
 ะกัน กระทั่งคนนอนเตียงเ
 ียวกันยังไม่สามารถพูดค
 ยกันได้อย่างปกติ\nวานหมา
 อก เป็นการหยิบยืมพฤติกร
 มต่างๆของหมา มาเหน็บ มาก
 ัด มาล้อเลียน การกระทำบา
 อย่างของคน เพื่อส่งทอดค
 ามรู้สึกของผมที่มีต่อสั
 งคม ต่อเหตุการณ์ ต่อผู้ค
 ในแวดวงต่างๆ ที่มีส่วนช
 ้นำและครอบงำสังคม\nหมาใน
 านะเพื่อนที่ดี และใกล้ช
 ดกับความซื่อสัตย์มากที
 สุด เป็นเพียงผู้คาบสาร เ
 ื่อบอกเล่าเรื่องราวต่า
 ๆจากคนสู่คน ในขณะที่ผู้
 นในสังคมขาดความไว้เนื้อ
 เชื่อใจกันแล้วอย่างสิ้น
 ชิง\nชุมพล คำวรรณะ\nYou…Abusive! You
 …Sick Puppy! You…Leprosy Dog\nDied like stray dogs etc, swear nois
 e in these TV showed insinuating words that human and dog were intimat
 e.\nThroughout the past 5 - 6 year period, the society had merely been
  nondescript. People in the society felt suspicious to each other even
  the ones who slept on the same bed could not converse as usual.\nAske
 d Dog to Tell is to borrow all dog behaviors to carp at, be at odds, a
 nd mimic some human performances in order to transmit my feeling towar
 d society, incidences, people in all circles that being participated i
 n directing and influencing the society. Dogs are as best friends, mos
 t close with honesty, and only be the news carriers to inform any stor
 ies from men to men while people in the society were entirely lack of 
 trust.\nChumpol Kamwanna\n\nFor more information visit http://www.port
 folios.net/events/asked-dog-to-tell
DTSTART;TZID=Asia/Bangkok:20120831T000000
DTEND;TZID=Asia/Bangkok:20120916T235900
CATEGORIES:art, exhibition, painting
LOCATION:Jamjuree Art Gallery
WEBSITE:http://jamjureeartgallery.blogspot.com/
URL:http://jamjureeartgallery.blogspot.com/
CONTACT:02 218 3709
ORGANIZER:
ATTACH;FMTTYPE="image/jpeg":http://storage.ning.com/topology/rest/1.0/
 file/get/3022943822?profile=original
ATTENDEE;ROLE=REQ-PARTICIPANT;PARTSTAT=ACCEPTED;RSVP=TRUE;CN="NEWS POR
 TFOLIOS*NET":http://www.portfolios.net/profile/AdminNews
END:VEVENT
END:VCALENDAR
