BEGIN:VCALENDAR
PRODID:NingEventWidget-v1
VERSION:2.0
METHOD:PUBLISH
BEGIN:VTIMEZONE
TZID:Asia/Bangkok
X-LIC-LOCATION:Asia/Bangkok
BEGIN:STANDARD
TZOFFSETFROM:+0700
TZOFFSETTO:+0700
TZNAME:ICT
DTSTART:19700101T000000
END:STANDARD
END:VTIMEZONE
BEGIN:VEVENT
UID:2988839:Event:1452058
DTSTAMP:20260425T221633Z
SUMMARY:นิทรรศการงานศิลปะร่ว
 สมัย \"As Man Eats Through His Forest\"
DESCRIPTION:\n*English please scroll down*นิทรรศการ
 ลุ่ม \"As Man Eats Through His Forest\" แสดงผล
 านศิลปะร่วมสมัยโดย 3 ศิล
 ิน เรืองศักดิ์ อนุวัตรวิ
 มล Moritz Ebinger และFranco Angeloni สร้างงา
 ที่แสดงความสัมพันธ์ของม
 นุษย์กับโลกธรรมชาติ ตั้ง
 คำถามเรื่องราวของคนที่ไ
 ้ใช้ทรัพยากรสภาพแวดล้อ
 เพื่อเอื้อประโยชน์ของตั
 วเอง และค้นคว้าความหมายต
 ่างๆทางสังคม เศรษฐกิจ ศา
 นา วิทยาศาสตร์ ฯลฯ ที่คนไ
 ด้แต่งขึ้นเพื่อสร้างกรอ
 ให้กับระบบและสิ่งมีชีว
 ตในธรรมชาติ นิทรรศการนี
 เสนอกลุ่มงานที่บอกเล่าถ
 ึงการ ไล่ล่า เก็บเกี่ยว แ
 ะใช้สอยของสัตว์สรรพสิ่
  พืช และทองFranco Angeloni (อิตาลี/เ
 เธอร์แลนด์) ผูกงานศิลปะข
 องเขาเข้ากับป่าไม้ และระ
 บบนิเวศน์ที่พิเศษและบอบ
 างของป่าโกงกาง โดยจะนำเ
 นอความสัมพันธ์อันละเอี
 ดอ่อนระหว่างการมนุษย์กั
 บสิ่งแวดล้อมธรรมชาติ งาน
 ของ Franco ไม่ได้ต้องการที่จ
 ชี้ถูกชี้ผิด หรือเรียกร
 องการเปลี่ยนแปลงระบบการ
 บริโภคของมนุษย์ แต่เพื่อ
 สังเกตการณ์ และบอกเล่าถึ
 งผลกระทบที่ระบบบริโภคนิ
 มของมนุษย์มีต่อสภาพแวด
 ้อมธรรมชาติงานของเรืองศ
 ักดิ์ อนุวัตรวิมล (ไทย) วิ
 คราะห์โครงสร้างของระบบท
 างสังคมและเศรษฐกิจ ที่คน
 ได้สร้างขึ้นเพื่อบริหาร
 ละบริโภคสิ่งมีชีวิตในธ
 รมชาติ ผ่านความคิด วัสดุ 
 และกระบวนการเฉพาะ ที่ใช้
 ขี้เถ้าจากสิ่งมีชีวิตต่
 งๆมาหล่อเป็นรูปทรงที่เ
 ี่ยวกับร่างกายมนุษย์ งา
 ในนิทรรศการนี้เป็นส่วนห
 นึ่งของโปรเจคระยะยาว ที่
 เรืองศักดิ์ได้วาดระบบโค
 งสร้างของมนุษย์ใหม่ เพื
 อชี้ถึงการบริหาร และบริ
 ภคของสิ่งมีชีวิตต่างๆบ
 โลกใบนี้ของคน ไม่ใช่เพื
 อความอยู่รอดเท่านั้น แต
 เพื่อที่จะได้มาซึ่งการเ
 ป็นมนุษย์ที่สมบูรณ์แบบ ต
 ามอุดมคติMoritz Ebinger (สวิสเซอร์
 แลนด์/เนเธอร์แลนด์) ค้นคว
 าความหมายของทองตามอารย
 รรมและพุทธศาสนาของไทย ท
 งเป็นต้นเหตุของสงครามระ
 หว่างมนุษย์มาเป็นเวลาช้
 นาน อารยธรรมต่างๆสถาปนา
 ึ้น และถูกทำลายลง ชีวิตเ
 จริญรุ่งเรือง และถูกกดขี
 ่เพราะโลหะอันลำ้ค่านี้ ท
 อง วัสดุธรรมชาติที่เป็นส
 ัญลักษณ์ของความศักดิ์สิ
 ธิ์ เป็นสิ่งที่ยืนยันคว
 มรักที่มั่นคง และแม้กระ
 ั่งรักษาโรค งานของMoritz Ebinger 
 ิเคราะห์การใช้โลหะทอง แ
 ะวัสดุสีทองอย่างมากมาย
 นพุทธศาสนา และในวัฒนธรร
 ความเชื่อของคนไทยContact BKK Arthou
 se:08099069100897811463\n \n\n \n\nFor more information visit http:/
 /www.portfolios.net/events/as-man-eats-through-his
DTSTART;TZID=Asia/Bangkok:20110423T000000
DTEND;TZID=Asia/Bangkok:20110529T235900
CATEGORIES:art, exhibition
LOCATION:Bangkok Art and Culture Centre
WEBSITE:http://www.facebook.com/event.php?eid=166013136790386&ref=noti
 f&notif_t=event_invite
URL:http://www.facebook.com/event.php?eid=166013136790386&ref=notif&no
 tif_t=event_invite
CONTACT:080 990 6910,089 781 1463
ORGANIZER:
ATTACH;FMTTYPE="image/jpeg":http://storage.ning.com/topology/rest/1.0/
 file/get/3022716518?profile=original
ATTENDEE;ROLE=REQ-PARTICIPANT;PARTSTAT=ACCEPTED;RSVP=TRUE;CN="NEWS POR
 TFOLIOS*NET":http://www.portfolios.net/profile/AdminNews
END:VEVENT
END:VCALENDAR
