BEGIN:VCALENDAR
PRODID:NingEventWidget-v1
VERSION:2.0
METHOD:PUBLISH
BEGIN:VTIMEZONE
TZID:Asia/Bangkok
X-LIC-LOCATION:Asia/Bangkok
BEGIN:STANDARD
TZOFFSETFROM:+0700
TZOFFSETTO:+0700
TZNAME:ICT
DTSTART:19700101T000000
END:STANDARD
END:VTIMEZONE
BEGIN:VEVENT
UID:2988839:Event:3149285
DTSTAMP:20260420T125330Z
SUMMARY:นิทรรศการศิลปกรรม \"Art Camp
  ประจำปี 2557\"
DESCRIPTION:พิพิธภัณฑสถานแห่งชา
 ิ หอศิลป ร่วมกับ กองทุนส
 งเสริมการศึกษาการสร้างส
 รรค์ศิลปะ “มูลนิธิรัฐบุร
 ุษ พลเอก เปรม ติณสูลานนท์
  จัดนิทรรศการศิลปกรรม Art Ca
 mp ประจำปี ๒๕๕๗ ณ พิพิธภัณฑ
 ถานแห่งชาติ หอศิลป แสดงผ
 ลงานของศิลปินแห่งชาติ คณ
 าจารย์ ศิลปินอิสระ และอด
 ตนิสิต นักศึกษาผู้เคยได
 รับทุนจากกองทุนส่งเสริม
 การศึกษาการสร้างสรรค์ศิ
 ปะ “มูลนิธิรัฐบุรุษ พลเอ
 ก เปรม ติณสูลานนท์” กว่า ๓
 ๐๐ ชิ้น ซึ่งมีทั้งผลงานส
 ้างสรรค์ส่วนตัว และผลงา
 ที่ได้ร่วมกันสร้างสรรค์
 ขึ้นจากการจัดกิจกรรมค่า
 ศิลปะ หรือ Art Camp ประจำปี ๒๕
 ๗ ณ จังหวัดระนอง เมื่อปลา
 ยเดือนพฤษภาคมที่ผ่านมา\n
 ิจกรรมค่ายศิลปะ ประจำปี 
 ๕๕๗ เป็นโครงการที่จัดขึ
 นอย่างต่อเนื่อง โดยในปี
 ี้ ได้กำหนดพื้นที่ในการ
 ร้างสรรค์ผลงานไว้บริเว
 พื้นที่จังหวัดระนอง มีว
 ตถุประสงค์เพื่อสร้างโอก
 าสให้กับผู้ที่เคยได้รับ
 ุนจากกองทุนฯ ได้มีการสร
 างสรรค์งานร่วมกัน และได
 มีการแลกเปลี่ยนความคิด
 ้านศิลปะระหว่างกัน และว
 ตถุประสงค์ที่สำคัญอีกปร
 ะการหนึ่งของกิจกรรมนี้ค
 อ เพื่อนำผลงานที่สร้างส
 รค์ในโครงการมาจัดนิทรร
 การเพื่อจำหน่ายและนำราย
 ได้สมทบเข้ากองทุนฯ เพื่อ
 เป็นทุนการศึกษาให้แก่นิ
 ิต นักศึกษา ที่เรียนดี ม
 ความประพฤติดี แต่ขาดแคล
 ทุนทรัพย์ในรุ่นต่อๆ ไป\nน
 ิทรรศการค่ายศิลปะ ประจำป
 ี ๒๕๕๗ นี้ เปิดให้เข้าชมร
 หว่างวันที่ ๖ – ๓๑ สิงหาค
  ๒๕๕๗ เวลา ๐๙.๐๐ – ๑๖.๐๐ น. (ห
 ยุดวันจันทร์ และอังคาร)ร
 ยได้ในการจำหน่าย กองทุน
 ่งเสริมการศึกษาการสร้าง
 สรรค์ศิลปะ “มูลนิธิรัฐบุ
 รุษ พลเอก เปรม ติณสูลานนท
 ” จะนำเข้าสมทบเพื่อจัดส
 รเป็นทุนการศึกษาให้กับ
 ิสิต นักศึกษาด้านศิลปะท
 ่วประเทศต่อไป สำหรับท่า
 ที่สนใจ และชื่นชอบผลงาน
 ิลปะ สามารถเข้าชม และสั่
 จองผลงานได้ที่ พิพิธภัณ
 สถานแห่งชาติ หอศิลป ถนนเ
 จ้าฟ้า หรือสอบถามรายละเอ
 ียดเพิ่มเติมได้ที่ 0 2241 0088 แ
 ละ www.bangkokartnews.com\n\nFor more information visit http://www
 .portfolios.net/events/art-camp-2557
DTSTART;TZID=Asia/Bangkok:20140806T000000
DTEND;TZID=Asia/Bangkok:20140831T235900
CATEGORIES:art, exhibition, painting
LOCATION:The National Gallery Bangkok
WEBSITE:http://www.bangkokartnews.com
URL:http://www.bangkokartnews.com
CONTACT:02 241 0088
ORGANIZER:
ATTACH;FMTTYPE="image/jpeg":http://storage.ning.com/topology/rest/1.0/
 file/get/3023276792?profile=original
ATTENDEE;ROLE=REQ-PARTICIPANT;PARTSTAT=ACCEPTED;RSVP=TRUE;CN="NEWS POR
 TFOLIOS*NET":http://www.portfolios.net/profile/AdminNews
END:VEVENT
END:VCALENDAR
