BEGIN:VCALENDAR
PRODID:NingEventWidget-v1
VERSION:2.0
METHOD:PUBLISH
BEGIN:VTIMEZONE
TZID:Asia/Bangkok
X-LIC-LOCATION:Asia/Bangkok
BEGIN:STANDARD
TZOFFSETFROM:+0700
TZOFFSETTO:+0700
TZNAME:ICT
DTSTART:19700101T000000
END:STANDARD
END:VTIMEZONE
BEGIN:VEVENT
UID:2988839:Event:3034580
DTSTAMP:20260422T020618Z
SUMMARY:นิทรรศการ \"Arising Exhibition Photographic 
 Art Thesis 2014\"
DESCRIPTION:นิทรรศการภาพถ่ายศิล
 นิพนธ์ โดยนักศึกษาสาขาศ
 ลปะการถ่ายภาพ คณะวิจิตร
 ิลป์ มหาวิทยาลัยเชียงให
 ่\nเชียงใหม่ วันที่ 21 ก.พ. - 14
  มี.ค. 2557 ณ House of Photography (ศาลแขวงเ
 ่า ตรงข้ามอนุเสาวรีย์สา
 กษัตริย์)\nกรุงเทพฯ วันที
  28 มี.ค. - 6 ม.ย. 2557 ณ สยามพารากอ
 \n\nFor more information visit http://www.portfolios.net/events/aris
 ing-exhibition-photographic-art-thesis-2014
DTSTART;TZID=Asia/Bangkok:20140221T000000
DTEND;TZID=Asia/Bangkok:20140314T235900
CATEGORIES:art, exhibition, thesis, photo, photography
LOCATION:House of Photography
WEBSITE:http://www.facebook.com/ARISINGphoto
URL:http://www.facebook.com/ARISINGphoto
CONTACT:
ORGANIZER:
ATTACH;FMTTYPE="image/jpeg":http://storage.ning.com/topology/rest/1.0/
 file/get/3023187088?profile=original
ATTENDEE;ROLE=REQ-PARTICIPANT;PARTSTAT=ACCEPTED;RSVP=TRUE;CN="NEWS POR
 TFOLIOS*NET":http://www.portfolios.net/profile/AdminNews
END:VEVENT
END:VCALENDAR
