BEGIN:VCALENDAR
PRODID:NingEventWidget-v1
VERSION:2.0
METHOD:PUBLISH
BEGIN:VTIMEZONE
TZID:Asia/Bangkok
X-LIC-LOCATION:Asia/Bangkok
BEGIN:STANDARD
TZOFFSETFROM:+0700
TZOFFSETTO:+0700
TZNAME:ICT
DTSTART:19700101T000000
END:STANDARD
END:VTIMEZONE
BEGIN:VEVENT
UID:2988839:Event:2680152
DTSTAMP:20260425T231636Z
SUMMARY:คอนเสิร์ต “เราคือคนไท
 ในแผ่นดินรัชกาลที่ 9”
DESCRIPTION:เราคือคนไทย ในแผ่นดิ
 นรัชกาลที่ 9\nวันที่ : 08 ธันว
 าคม 2555\nสถานที่: ห้องออดิทอ
 รียม ชั้น 5\nเวลา 12.30-16.00 น.\nโด
  มูลนิธิธรรมดี และกลุ่มศ
 ลปะเปิดจิต /จีวันแบนด์\nจ
 วันแบนด์ ร่วมกับมูลนิธิ
 รรมดี และองค์กรต่างๆ จัด
 การแสดงดนตรี ครั้งพิเศษ 
 ีที่ 6 ครั้งที่ 9 คอนเสิร์ต
  “เราคือคนไทย ในแผ่นดินร
 ชกาลที่ 9” เนื่องในมหามงค
 ลสมัยที่พระบาทสมเด็จพระ
 จ้าอยู่หัวจะทรงเจริญพร
 ชนมพรรษา 85 พรรษา ในปีพุทธ
 ักราช 2555 โดยมี พระราชญาณก
 ี (ปิยโสภณ) รองเจ้าอาวาสว
 ดพระราม9 กาญจนาภิเษก เป็
 ประธาน ร่วมด้วยศิลปินรั
 เชิญพิเศษ คุณมีสุข แจ้งม
 สุข คุณอิสริยา คูประเสริ
 ฐ คุณธีรยุทธ เวชเจริญยิ่
  และจีวันจูเนียร์ ฯลฯ\nเร
 คือคนไทย ในแผ่นดินรัชกา
 ที่ 9\n“ไม่มีใครว่าจ้างผม 
 รือบีบบังคับให้ผมแต่งเ
 ลงถวายพระบาทสมเด็จพระเจ
 ้าอยู่หัว... แต่เป็นผมที่ร
 ู้สึกเต็มล้นอยู่ใน\nจิตว
 า พระองค์คือ พระราชา บิดา
  คือครู คือประทีป คือผู้น
  คือผู้มีพระคุณล้นเกล้า 
 ล้นกระหม่อมอย่างหาที่สุ
 มิได้ เป็นบุญ\nของผมเหลื
 เกินที่ได้เกิดมาเป็นคนไ
 ทย เป็นข้ารองบาทของพระอง
 ค์... ได้พบพระพุทธศาสนาภาย
 ใต้พระบารมีของพระองค์\nไ
 ้รับรู้เรื่องราวที่งดงา
 ม ที่ผมไม่เคยได้พบ ได้เห
 น ณ ที่ใดในโลกนี้\nผมภูมิ
 จ ที่ได้มีชีวิตอยู่ในยุ
 สมัยของพระองค์ท่าน ผู้ท
 งคุณอันประเสริฐ...แม้ผมไม
 ่มีเงินทองมากมายถวายท่า
 ...\nแต่ผมขอทำเพียงพอ ตามพ
 อสอน ...ทำความดีให้สูงค่า
 ว่าเงินทอง...ทุกอณูผม..พร้
 มจะเดินตาม.....ทำตาม\nที่ใด
 ีความทุกข์ ความขัดแย้ง ท
 ุรกันดาร นานาสารพันปัญหา
  ที่นั่นจะมีองค์พระราชา 
 ำถามที่เกิดขึ้น เมื่อวั
 เด็ก\nว่า ท่านเสด็จไปทำไม
 ในสถานที่ ที่ลำบากอย่างน
 ั้น...ท่านทรงทำอะไรในสถาน
 ี่อย่างนั้น.... ท่านไปทำทำ
 ไม.... และท่านทรง\nทำเพื่อใค
 ร.... คำตอบนั้นยิ่งใหญ่นัก..
 เกินคำบรรยายด้วยภาษา... คำ
 ถามทั้งหมดนี้ได้เฉลยแล้
 ...... อยู่ในตัวเราทุกคน”\n ด
 นป่า จีวัน\nมูลนิธิธรรมด
  และกลุ่มศิลปะเปิดจิต /จี
 วันแบนด์ ขอเชิญชวนทุกท่า
 น ร่วมกันเป็นเราคือคนไทย
 ในแผ่นดินรัชกาลที่ 9 ผ่าน
 ทเพลง คีตธรรมวันพ่อ ในงา
 นคอนเสิร์ต “เราคือคนไทยใ
 นแผ่นดินรัชกาลที่ 9” โดยจ
 วันแบนด์และศิลปินรับเช
 ญพิเศษ ในวันเสาร์ที่ 8 ธั
 วาคม 2555 เวลา 12.30-16.00 น. ณ หอศิล
 วัฒนธรรมแห่งกรุงเทพมหาน
 คร แยกปทุมวัน (ห้องออดิทอ
 รียม ชั้น 5) บัตรราคา 999 บาท 
 ทุกที่นั่ง / จองบัตรได้ที
  087-595-5619 / 087-591-6995\nรายได้หลังหั
 ค่าใช้จ่ายขึ้นทูลเกล้าฯ
 ถวายพระบาทสมเด็จพระเจ้า
 ยู่หัว เพื่อโดยเสด็จพระ
 าชกุศลตามพระราชอัธยาศั
 ต่อไป\nสอบถามข้อมูลเพิ่ม
 ติมโทร กลุ่มศิลปะเปิดจิ
  / จีวันแบนด์ โทร 087-595-5619 / 087-591-6
 995\nหรือ www.g-oneband.com/ Facebook: จีวัน แบ
 ด์\n\nFor more information visit http://www.portfolios.net/event
 s/9-2
DTSTART;TZID=Asia/Bangkok:20121208T123000
DTEND;TZID=Asia/Bangkok:20121208T160000
CATEGORIES:music, concert
LOCATION:Bangkok Art & Culture Centre
WEBSITE:http://www.bacc.or.th
URL:http://www.bacc.or.th
CONTACT:02 214 6630-8
ORGANIZER:
ATTACH;FMTTYPE="image/jpeg":http://storage.ning.com/topology/rest/1.0/
 file/get/3023005904?profile=original
ATTENDEE;ROLE=REQ-PARTICIPANT;PARTSTAT=ACCEPTED;RSVP=TRUE;CN="NEWS POR
 TFOLIOS*NET":http://www.portfolios.net/profile/AdminNews
END:VEVENT
END:VCALENDAR
