BEGIN:VCALENDAR
PRODID:NingEventWidget-v1
VERSION:2.0
METHOD:PUBLISH
BEGIN:VTIMEZONE
TZID:Asia/Bangkok
X-LIC-LOCATION:Asia/Bangkok
BEGIN:STANDARD
TZOFFSETFROM:+0700
TZOFFSETTO:+0700
TZNAME:ICT
DTSTART:19700101T000000
END:STANDARD
END:VTIMEZONE
BEGIN:VEVENT
UID:2988839:Event:3192243
DTSTAMP:20260425T231638Z
SUMMARY:นิทรรศการผลงานศิลปะ \"
 รบรอบ 71 ปี กมล ทัศนาญชลี แ
 ะเพื่อนศิลปิน\"
DESCRIPTION:\"นิทรรศการผลงานศิลป
  ครบรอบ 71 ปี กมล ทัศนาญชลี 
 ละเพื่อนศิลปิน\" ระหว่าง
 ันที่ 6 มค. - 6 กพ. 2558 ณ หอศิลป์
 ่วมสมัยราชดำเนิน เวลา 10.00-
 19.00 น. ทุกวัน ยกเว้นวันจันท
 ์ โดยไม่มีค่าใช้จ่ายในง
 นท่านจะได้ชื่นชมผลงานช
 ้นเอกจากศิลปินแห่งชาติ 
 าขาทัศนศิลป์ผู้นี้ และผ
 งานจากเพื่อนศิลปินแนวหน
 ้าของไทยจำนวนนับร้อยผลง
 น* พิธีเปิดอย่างเป็นทางก
 ารจะมีขึ้นในวันที่ 10 มค. 2558
  เวลา 17.00 น. โดยสมเด็จพระเทพ
 รัตนราชสุดาฯ สยามมงกุฏรา
 ชกุมารี ทรงพระกรุณาโปรดเ
 กล้าฯ เสด็จพระราชดำเนินม
 าเป็นองค์ประธานในพิธีเป
 ดติดตามรายละเอียดได้ใน
 อกาสต่อไป\n\nFor more information visit http://www.
 portfolios.net/events/71
DTSTART;TZID=Asia/Bangkok:20150106T000000
DTEND;TZID=Asia/Bangkok:20150206T235900
CATEGORIES:art, exhibition, painting
LOCATION:RCAC BKK
WEBSITE:http://www.facebook.com/rcac84
URL:http://www.facebook.com/rcac84
CONTACT:
ORGANIZER:
ATTACH;FMTTYPE="image/jpeg":http://storage.ning.com/topology/rest/1.0/
 file/get/3023334220?profile=original
ATTENDEE;ROLE=REQ-PARTICIPANT;PARTSTAT=ACCEPTED;RSVP=TRUE;CN="NEWS POR
 TFOLIOS*NET":http://www.portfolios.net/profile/AdminNews
END:VEVENT
END:VCALENDAR
