BEGIN:VCALENDAR
PRODID:NingEventWidget-v1
VERSION:2.0
METHOD:PUBLISH
BEGIN:VTIMEZONE
TZID:Asia/Bangkok
X-LIC-LOCATION:Asia/Bangkok
BEGIN:STANDARD
TZOFFSETFROM:+0700
TZOFFSETTO:+0700
TZNAME:ICT
DTSTART:19700101T000000
END:STANDARD
END:VTIMEZONE
BEGIN:VEVENT
UID:2988839:Event:2759710
DTSTAMP:20260419T213303Z
SUMMARY:นิทรรศการ “ผลงานศิลป์
 ี 56”
DESCRIPTION:นิทรรศการ “ผลงานศิลป
 ์ปี 56”\nศิลปิน คณาจารย์คณะ
 ิลปกรรมศาสตร์ มหาวิทยาล
 ยธุรกิจบัณฑิตย์\nลักษณะง
 าน วาดเส้น จิตรกรรมและสื
 อผสม\nพิธีเปิดนิทรรศการ ว
 ันที่ 4 มีนาคม พ.ศ.2556 เวลา 18:30 
 .\nโดย รองศาสตราจารย์ ดร. ว
 ากรณ์ สามโกเศศ อธิการบดี
 \nมหาวิทยาลัยธุรกิจบัณฑิ
 ย์ ประธานในพิธีเปิด\nระยะ
 เวลาที่จัดแสดง 4 - 17 มีนาคม 2
 556\nห้องนิทรรศการ ห้องนิทร
 ศการชั้น 1 ห้อง 1 - 2\nแนวความ
 คิด\nหลักการและเหตุผล เนื
 องด้วยคณะศิลปกรรมศาสตร
  มหาวิทยาลัยธุรกิจบัณฑิ
 ย์ ได้ทำการเปิดสอนศาสตร
 ทางด้านศิลปะหลากหลายแขน
 ง โดยมีหมวดวิชาพื้นฐานทา
 งศิลปะเป็นผู้ปูพื้นฐานท
 งศิลปะทั้งภาคทฤษฎีและภ
 คปฏิบัติให้กับนักศึกษาท
 ุกภาควิชา ทั้งนี้คณาจารย
 ์ในหมวดวิชา ได้ปรึกษาหาร
 ือกัน และเล็งเห็นแล้วว่า
  นอกจากหน้าที่ในการอบรมส
 ั่งสอนและให้วิชาความรู้
 างศิลปะแก่นักศึกษาแล้ว 
 ณาจารย์ในหมวดวิชาฯ ยังม
 บทบาทอีกหนึ่งบทบาทก็คื
  การเป็นศิลปินที่สร้างส
 รค์ผลงานศิลปะอย่างต่อเน
 ื่อง ทางหมวดวิชาพื้นฐานท
 างศิลปะ จึงได้เชิญชวนเหล
 ่าคณาจารย์ใน คณะศิลปกรรม
 ศาสตร์ เพื่อร่วมแสดงผลงา
 นศิลปะ โดยได้รวบรวมผลงาน
 ในรูปแบบต่างๆ อาทิเช่น ผ
 งานวาดเส้น,ผลงานจิตรกรร
 สีน้ำ,สีน้ำมัน,ผลงานภาพถ
 าย และผลงานสื่อผสม ซึ่งง
 านแสดงนิทรรศการได้ถูกจั
 ขึ้นอย่างต่อเนื่องตั้ง
 ต่ปีพ.ศ.2549 – พ.ศ.2555 โดยใช้ชื่
 อว่า นิทรรศการผลงานศิลป์
   ในการจัด นิทรรศการผลงาน
 ิลป์ ปี56 นี้ ถือเป็นครั้ง
 ที่ 7 โดยจัดขึ้นที่ หอศิลป
 ์จามจุรี จุฬาลงกรณ์มหาวิ
 ทยาลัย มีศิลปินเข้าร่วมท
 ั้งสิ้น 30 ท่านดังนี้\nศิลป
 นเข้าร่วมโครงการ\nศิลปิน
 รับเชิญ\nดร.เลิศลักษณ์ ส. บ
 รุษพัฒน์ รองศาสตราจารย์
 ริญญา ตันติสุข\nอาจารย์เ
 ิดโฉม จันทราทิพย์ รองศาส
 ราจารย์ ดร.ศุภกรณ์ ดิษฐพ
 นธ์\nศาสตราจารย์กิตติคุณ
 ัฒนะ จูฑะวิภาต รองศาสตรา
 จารย์จิระพัฒน์ พิตรปรีชา
 \nศาสตราจารย์วิโชค มุกดาม
 ี ผู้ช่วยศาสตราจารย์สุร
 ัย เอกพลากร\nศาสตราจารย์
 ิทธิพล ตั้งโฉลก\nศิลปินใน
 โครงการ\nอาจารย์สาธร รุ่ง
 วีชัย อาจารย์สิริทัต เตช
 ะพะโลกุล\nอาจารย์เนติกร ช
 นโย อาจารย์ทิพย์ลักษณ์ โ
 กมลวณิช\nอาจารย์ปรวรรณ ดว
 รัตน์ อาจารย์คุณัชญ์ วัฒ
 นกิจเจริญ\nอาจารย์วัชราพ
  อยู่ดี อาจารย์จิณณ์ธิศา 
 สุระประเสริฐ\nอาจารย์อัจ
 ิมา เจริญจิตร ตนานนท์ อาจ
 ารย์ธนพงษ์ ผลาขจรศักดิ์\n
 าจารย์ณมณ ขันธชวะนะ อาจา
 รย์อุบลวรรณ มูลกัณฑา\nอาจ
 รย์โอภาส เจริญสุข อาจารย
 ์จักรพันธ์ สุระประเสริฐ\n
 าจารย์เตชนิธิ สังขะทรัพ
 ์ อาจารย์กมลวรรณ พัชรพรพ
 ิพัฒน์\nอาจารย์ธันวา ห้วง
 มุทร อาจารย์อุดม บุญเฉลิ
 มชัย\nอาจารย์อนันต์ ประภา
 ส อาจารย์อดิศักดิ์ สร้อย
 สุริยา\nคุณกรณ์ กรดนวม\n\nFor mo
 re information visit http://www.portfolios.net/events/56
DTSTART;TZID=Asia/Bangkok:20130304T000000
DTEND;TZID=Asia/Bangkok:20130317T235900
CATEGORIES:art, exhibition, painting, drawing
LOCATION:Jamjuree Art Gallery
WEBSITE:http://jamjureeartgallery.blogspot.com/
URL:http://jamjureeartgallery.blogspot.com/
CONTACT:02 218 3709
ORGANIZER:
ATTACH;FMTTYPE="image/jpeg":http://storage.ning.com/topology/rest/1.0/
 file/get/3023045798?profile=original
ATTENDEE;ROLE=REQ-PARTICIPANT;PARTSTAT=ACCEPTED;RSVP=TRUE;CN="NEWS POR
 TFOLIOS*NET":http://www.portfolios.net/profile/AdminNews
END:VEVENT
END:VCALENDAR
