BEGIN:VCALENDAR
PRODID:NingEventWidget-v1
VERSION:2.0
METHOD:PUBLISH
BEGIN:VTIMEZONE
TZID:Asia/Bangkok
X-LIC-LOCATION:Asia/Bangkok
BEGIN:STANDARD
TZOFFSETFROM:+0700
TZOFFSETTO:+0700
TZNAME:ICT
DTSTART:19700101T000000
END:STANDARD
END:VTIMEZONE
BEGIN:VEVENT
UID:2988839:Event:1378891
DTSTAMP:20260423T212203Z
SUMMARY:นิทรรศการการแสดงศิลป
 ิพนธ์ ครั้งที่ 41 \"ลั่นไกล\"
DESCRIPTION:\n••••••••••••••••••
 ••••••••••••นิทรรศการกา
 รแสดงศิลปนิพนธ์ ครั้งที่
  41 คณะมัณฑนศิลป์ มหาวิทยา
 ัยศิลปากรพิธีเปิด 4 เมษาย
 น 2554 เวลา 17:00น ณ สวนแก้ว มหาว
 ทยาลัยศิลปากร วังท่าพระ
 ิทรรศการเปิดแสดง 4-19 เมษา
 น 2554 (เว้นวันอาทิตย์ และวั
 หยุดนักขัตฤกษ์)- หอศิลป์ 
 หาวิทยาลัยศิลปากร- หอศิล
 ปะและการออกแบบ คณะมัณฑนศ
 ิลป์- หอศิลปะสถาปัตยกรรม
 ระพรหมพิจิตร คณะสถาปัตย
 รรมศาสตร์- หอศิลป์ PSG คณะจ
 ตรกรรมประติมากรรมและภาพ
 ิมพ์มหาวิทยาลัยศิลปากร ว
 ังท่าพระ กรุงเทพมหานคร\"เ
 ็งให้มั่น ลั่นให้ไกล\"••
 •••••••••••••••••••••••
 •••••Art Thesis Exhibition 2011 of the Forth year student,Fa
 culty of Decorative Arts, Silpakorn Universityat Art Centre, Silpakorn
  Universityand The Gallery of Art and Design, Faculty of Decorative Ar
 ts,Silpakorn University, Wang Tha-phra, Bangkok Tuesday 4 th, April 20
 11, 5.00 pm.(The Exhibition will be on view until April 19 th , 2011\n
 Closed on Sunday and official Holiday)••••••••••
 ••••••••••••••••••••\n\nFor m
 ore information visit http://www.portfolios.net/events/41
DTSTART;TZID=Asia/Bangkok:20110404T100000
DTEND;TZID=Asia/Bangkok:20110419T180000
CATEGORIES:art, thesis, exhibition
LOCATION:Silpakorn University, Wang Tha-phra Campus
WEBSITE:http://www.decorate.su.ac.th/
URL:http://www.decorate.su.ac.th/
CONTACT:
ORGANIZER;CN="Paul Rabrabhi":http://www.portfolios.net/profile/apore
ATTACH;FMTTYPE="image/jpeg":http://storage.ning.com/topology/rest/1.0/
 file/get/3022704479?profile=original
ATTENDEE;ROLE=REQ-PARTICIPANT;PARTSTAT=ACCEPTED;RSVP=TRUE;CN="PORTFOLI
 OS*NET":http://www.portfolios.net/profile/creator
ATTENDEE;ROLE=REQ-PARTICIPANT;PARTSTAT=ACCEPTED;RSVP=TRUE;CN=noad:http
 ://www.portfolios.net/profile/noad
ATTENDEE;ROLE=REQ-PARTICIPANT;PARTSTAT=ACCEPTED;RSVP=TRUE;CN="Paul Rab
 rabhi":http://www.portfolios.net/profile/apore
ATTENDEE;ROLE=REQ-PARTICIPANT;PARTSTAT=ACCEPTED;RSVP=TRUE;CN=FlukE:htt
 p://www.portfolios.net/profile/FlukE
ATTENDEE;ROLE=REQ-PARTICIPANT;PARTSTAT=ACCEPTED;RSVP=TRUE;CN=SUNTUR:ht
 tp://www.portfolios.net/profile/SUNTUR
ATTENDEE;ROLE=REQ-PARTICIPANT;PARTSTAT=TENTATIVE;RSVP=TRUE;CN=TONGYANG
 NGEE:http://www.portfolios.net/profile/TONGYANGNGEE
END:VEVENT
END:VCALENDAR
