BEGIN:VCALENDAR
PRODID:NingEventWidget-v1
VERSION:2.0
METHOD:PUBLISH
BEGIN:VTIMEZONE
TZID:Asia/Bangkok
X-LIC-LOCATION:Asia/Bangkok
BEGIN:STANDARD
TZOFFSETFROM:+0700
TZOFFSETTO:+0700
TZNAME:ICT
DTSTART:19700101T000000
END:STANDARD
END:VTIMEZONE
BEGIN:VEVENT
UID:2988839:Event:2916769
DTSTAMP:20260423T194915Z
SUMMARY:งาน \"รวมเส้น 3\" ตอน \"นิทร
 รศการ Timeline\"
DESCRIPTION:งาน \"รวมเส้น 3\" ตอน \"นิ
 รรศการ Timeline\" ซึ่งเป็นงานนิ
 ทรรศการของนักวาดการ์ตูน
 ทย และมีนักวาดที่ถูกคัด
 ลือกเข้าร่วมงานทั้งในส
 วนของนิทรรศการ, ตลาดนัดน
 กวาด และ วาดสด อีกทั้งยั
 มีกิจกรรมอีกมากมายในงาน
  อาทิ เช่น สัมภาษณ์นักวาด
 นดัง, โชว์วาดสดโดยทีมนัก
 วาดมืออาชีพ, พูดคุยเรื่อ
 ลิขสิทธิ์ของนักวาด, ประม
 ลภาพจากนักวาดมากมาย, วาด
 ตัวเองเป็นการ์ตูนได้ที่
 ซนวาดสด อีกทั้งยังมีการ
 อกบูทของสำนักพิมพ์ และ ร
 ้านค้า ต่างๆ\nวันที่ 17-18 สิง
 หาควม 2556 เวลา 10.00-18.00 น.\nณ หอจด
 มายเหตุพุทธทาส (สวนโมกข์ 
 สวนรถไฟ)\n สามารถดูรายละเอ
 ียดเพิ่มเติมได้ที่ www.thaillust.c
 om และ www.facebook.com/RuamZen\n\nFor more information visit ht
 tp://www.portfolios.net/events/3-timeline
DTSTART;TZID=Asia/Bangkok:20130817T000000
DTEND;TZID=Asia/Bangkok:20130818T235900
CATEGORIES:art, exhibition, drawing
LOCATION:Buddhadasa Indapanno Archives
WEBSITE:http://www.bia.or.th
URL:http://www.bia.or.th
CONTACT:02 936 2800
ORGANIZER:
ATTACH;FMTTYPE="image/jpeg":http://storage.ning.com/topology/rest/1.0/
 file/get/3023116268?profile=original
ATTENDEE;ROLE=REQ-PARTICIPANT;PARTSTAT=ACCEPTED;RSVP=TRUE;CN="NEWS POR
 TFOLIOS*NET":http://www.portfolios.net/profile/AdminNews
END:VEVENT
END:VCALENDAR
