BEGIN:VCALENDAR
PRODID:NingEventWidget-v1
VERSION:2.0
METHOD:PUBLISH
BEGIN:VTIMEZONE
TZID:Asia/Bangkok
X-LIC-LOCATION:Asia/Bangkok
BEGIN:STANDARD
TZOFFSETFROM:+0700
TZOFFSETTO:+0700
TZNAME:ICT
DTSTART:19700101T000000
END:STANDARD
END:VTIMEZONE
BEGIN:VEVENT
UID:2988839:Event:974340
DTSTAMP:20260425T173315Z
SUMMARY:ละครเวที “คืนหนึ่ง ณ ค
 นนั้น”
DESCRIPTION:ละครเวที “คืนหนึ่ง ณ 
 ืนนั้น”\n\nวัน : 1-5 ธันวาคม 2553\
 nเวลา : 1-3 ธ.ค. รอบ 19.00 น., 4-5 ธ.ค. รอ
 บ 14.00 น. และ 19.00 น.\nสถานที่ : ห้อ
 งออดิทอเรียม ชั้น 5\n\nโดย ก
 ุ่มคนส่งสาร\n\nละครเวที เร
 ่อง “คืนหนึ่ง ณ คืนนั้น” 
 ด้นำเอาศิลปวัฒนธรรมตะว
 นตกผสมผสานศิลปวัฒนธรรมต
 ะวันออกในรูปแบบการแสดงล
 ครอุปรากรจีน (งิ้ว) บทละค
 นำเสนอเรื่องราววิญญาณ 6 
 น กำลังรอยมฑูต ซึ่งจะเป็
 ผู้นำเอาวิญญาณไปพิพากษ
 ในเวลาเที่ยงคืน วิญญาณท
 ้ง 6 ได้เกิดวิวาทะเพื่อหา
 ผู้กระทำผิด และเตรียมร้อ
 งขอความเป็นธรรมจากยมฑูต
 พื่อจะให้นำวิญณาณของตั
 เองได้กลับเข้าร่างก่อนเ
 วลาเที่ยงคืน\n\nการจัดทำละ
 ครครั้งนี้เพื่อสร้างควา
 บันเทิง และนำรายได้จากก
 รแสดงมอบให้กับโครงการ ONE 
 DREAM ONE WORLD CHILDREN CARE CENTER\n\nกรุณาสำรอง
 ที่นั่งที่ กลุ่มคนส่งสาร
 \nโทร. 086 0406089 087 3099835\nEmail/facebook: K_messenger@hotm
 ail.co.th\n\nFor more information visit http://www.portfolios.net/even
 ts/2988839:Event:974340
DTSTART;TZID=Asia/Bangkok:20101201T000000
DTEND;TZID=Asia/Bangkok:20101205T235900
CATEGORIES:performance
LOCATION:หอศิลปวัฒนธรรมแห่งกร
 งเทพมหานคร
WEBSITE:http://www.bacc.or.th/performance/detail/guid/b4047fd50087ee20
 5dba3706f67514e2
URL:http://www.bacc.or.th/performance/detail/guid/b4047fd50087ee205dba
 3706f67514e2
CONTACT:086 0406089 087 3099835
ORGANIZER:กลุ่มคนส่งสาร
ATTACH;FMTTYPE="image/jpeg":http://storage.ning.com/topology/rest/1.0/
 file/get/3022667347?profile=original
ATTENDEE;ROLE=REQ-PARTICIPANT;PARTSTAT=ACCEPTED;RSVP=TRUE;CN="PORTFOLI
 OS*NET":http://www.portfolios.net/profile/creator
END:VEVENT
END:VCALENDAR
