BEGIN:VCALENDAR
PRODID:NingEventWidget-v1
VERSION:2.0
METHOD:PUBLISH
BEGIN:VTIMEZONE
TZID:Asia/Bangkok
X-LIC-LOCATION:Asia/Bangkok
BEGIN:STANDARD
TZOFFSETFROM:+0700
TZOFFSETTO:+0700
TZNAME:ICT
DTSTART:19700101T000000
END:STANDARD
END:VTIMEZONE
BEGIN:VEVENT
UID:2988839:Event:3550711
DTSTAMP:20260423T144736Z
SUMMARY:นิทรรศการ “รอยน้ำ รอยส
 ี รอยชีวิต”
DESCRIPTION:นิทรรศการ “รอยน้ำ รอ
 สี รอยชีวิต” 2534 - 2562 (trace) 1991 – 2019
 ดยศิลปิน รุ่งพันธุ์ บุรุ
 ษชาติ ( Rungphan Burootchati )ลักษณะงาน 
 ิตรกรรมสีน้ำ, สีอะคริลิค,
  ออยพาสเทลระยะเวลาที่จัด
 แสดง วันที่ 3 – 21 พฤศจิกายน 2
 562ณ ห้องนิทรรศการชั้น 1 ห้อ
 งนิทรรศการ 1\r\n\r\n*****************************
 อศิลป์ฯ เปิดให้เข้าชมทุ
 วัน จันทร์ – ศุกร์ เวลา 10.00 
 – 19.00น. เสาร์,อาทิตย์ และวัน
 หยุดราชการ เวลา 12.00 – 18.00น.ปิ
 ให้บริการในเทศกาลวันปี
 หม่และวันสงกรานต์\r\n\n\nFor more i
 nformation visit http://www.portfolios.net/events/2988839:Event:355071
 1
DTSTART;TZID=Asia/Bangkok:20191103T000000
DTEND;TZID=Asia/Bangkok:20191121T235900
CATEGORIES:art, exhibition, painting
LOCATION:Chamchuri Art Gallery
WEBSITE:
URL:
CONTACT:
ORGANIZER;CN="NEWS PORTFOLIOS*NET":http://www.portfolios.net/profile/A
 dminNews
ATTACH;FMTTYPE="image/jpeg":https://storage.ning.com/topology/rest/1.0
 /file/get/3599923068?profile=original
ATTENDEE;ROLE=REQ-PARTICIPANT;PARTSTAT=ACCEPTED;RSVP=TRUE;CN="NEWS POR
 TFOLIOS*NET":http://www.portfolios.net/profile/AdminNews
END:VEVENT
END:VCALENDAR
